BEGIN:VCALENDAR
VERSION:2.0
PRODID:-//Fiera Roma - ECPv6.15.17.1//NONSGML v1.0//EN
CALSCALE:GREGORIAN
METHOD:PUBLISH
X-WR-CALNAME:Fiera Roma
X-ORIGINAL-URL:https://www.fieraroma.it/en/
X-WR-CALDESC:Events for Fiera Roma
REFRESH-INTERVAL;VALUE=DURATION:PT1H
X-Robots-Tag:noindex
X-PUBLISHED-TTL:PT1H
BEGIN:VTIMEZONE
TZID:Europe/Rome
BEGIN:DAYLIGHT
TZOFFSETFROM:+0100
TZOFFSETTO:+0200
TZNAME:CEST
DTSTART:20220327T010000
END:DAYLIGHT
BEGIN:STANDARD
TZOFFSETFROM:+0200
TZOFFSETTO:+0100
TZNAME:CET
DTSTART:20221030T010000
END:STANDARD
BEGIN:DAYLIGHT
TZOFFSETFROM:+0100
TZOFFSETTO:+0200
TZNAME:CEST
DTSTART:20230326T010000
END:DAYLIGHT
BEGIN:STANDARD
TZOFFSETFROM:+0200
TZOFFSETTO:+0100
TZNAME:CET
DTSTART:20231029T010000
END:STANDARD
BEGIN:DAYLIGHT
TZOFFSETFROM:+0100
TZOFFSETTO:+0200
TZNAME:CEST
DTSTART:20240331T010000
END:DAYLIGHT
BEGIN:STANDARD
TZOFFSETFROM:+0200
TZOFFSETTO:+0100
TZNAME:CET
DTSTART:20241027T010000
END:STANDARD
BEGIN:DAYLIGHT
TZOFFSETFROM:+0100
TZOFFSETTO:+0200
TZNAME:CEST
DTSTART:20250330T010000
END:DAYLIGHT
BEGIN:STANDARD
TZOFFSETFROM:+0200
TZOFFSETTO:+0100
TZNAME:CET
DTSTART:20251026T010000
END:STANDARD
END:VTIMEZONE
BEGIN:VEVENT
DTSTART;VALUE=DATE:20241212
DTEND;VALUE=DATE:20241216
DTSTAMP:20260424T180726
CREATED:20241206T161752Z
LAST-MODIFIED:20241206T161840Z
UID:10000907-1733961600-1734307199@www.fieraroma.it
SUMMARY:85° Congresso Nazionale SIC
DESCRIPTION:
URL:https://www.fieraroma.it/en/evento/85-congresso-nazionale-sic/
LOCATION:Fiera di Roma\, Via Portuense\, 1645\, Roma\, 00148\, Italia
CATEGORIES:Conference,Convegno|Fiera
ATTACH;FMTTYPE=image/jpeg:https://www.fieraroma.it/wp-content/uploads/Logo-SIC_511x413.jpg
END:VEVENT
BEGIN:VEVENT
DTSTART;VALUE=DATE:20230811
DTEND;VALUE=DATE:20230814
DTSTAMP:20260424T180726
CREATED:20230718T104207Z
LAST-MODIFIED:20230718T104832Z
UID:10000824-1691712000-1691971199@www.fieraroma.it
SUMMARY:"Siate pazienti"
DESCRIPTION:[vc_row][vc_column width=”1/1″][vc_column_text uncode_shortcode_id=”211738″] \nCongresso dei Testimoni di Geova del 2023\n[/vc_column_text][vc_column_text uncode_shortcode_id=”929365″]Per informazioni dettagliate sull’evento\, per leggere il programma del congresso\, per guardare un’anteprima video e conoscere altri contenuti\, visita il sito: https://www.jw.org/it/testimoni-di-geova/congressi/[/vc_column_text][/vc_column][/vc_row]
URL:https://www.fieraroma.it/en/evento/siate-pazienti-3/
LOCATION:Fiera di Roma\, Via Portuense\, 1645\, Roma\, 00148\, Italia
CATEGORIES:Convegno|Fiera,Fair
ATTACH;FMTTYPE=image/jpeg:https://www.fieraroma.it/wp-content/uploads/logo_jw_2023.jpg
END:VEVENT
BEGIN:VEVENT
DTSTART;VALUE=DATE:20230804
DTEND;VALUE=DATE:20230807
DTSTAMP:20260424T180726
CREATED:20230718T104109Z
LAST-MODIFIED:20230718T104109Z
UID:10000822-1691107200-1691366399@www.fieraroma.it
SUMMARY:"Siate pazienti"
DESCRIPTION:[vc_row][vc_column width=”1/1″][vc_column_text uncode_shortcode_id=”211738″] \nCongresso dei Testimoni di Geova del 2023\n[/vc_column_text][vc_column_text uncode_shortcode_id=”929365″]Per informazioni dettagliate sull’evento\, per leggere il programma del congresso\, per guardare un’anteprima video e conoscere altri contenuti\, visita il sito: https://www.jw.org/it/testimoni-di-geova/congressi/[/vc_column_text][/vc_column][/vc_row]
URL:https://www.fieraroma.it/en/evento/siate-pazienti-2/
LOCATION:Fiera di Roma\, Via Portuense\, 1645\, Roma\, 00148\, Italia
CATEGORIES:Convegno|Fiera,Fair
ATTACH;FMTTYPE=image/jpeg:https://www.fieraroma.it/wp-content/uploads/logo_jw_2023.jpg
END:VEVENT
BEGIN:VEVENT
DTSTART;VALUE=DATE:20230728
DTEND;VALUE=DATE:20230731
DTSTAMP:20260424T180726
CREATED:20230718T102957Z
LAST-MODIFIED:20230718T102957Z
UID:10000820-1690502400-1690761599@www.fieraroma.it
SUMMARY:"Siate pazienti"
DESCRIPTION:[vc_row][vc_column width=”1/1″][vc_column_text uncode_shortcode_id=”211738″] \nCongresso dei Testimoni di Geova del 2023\n[/vc_column_text][vc_column_text uncode_shortcode_id=”929365″]Per informazioni dettagliate sull’evento\, per leggere il programma del congresso\, per guardare un’anteprima video e conoscere altri contenuti\, visita il sito: https://www.jw.org/it/testimoni-di-geova/congressi/[/vc_column_text][/vc_column][/vc_row]
URL:https://www.fieraroma.it/en/evento/siate-pazienti/
LOCATION:Fiera di Roma\, Via Portuense\, 1645\, Roma\, 00148\, Italia
CATEGORIES:Convegno|Fiera,Fair
ATTACH;FMTTYPE=image/jpeg:https://www.fieraroma.it/wp-content/uploads/logo_jw_2023.jpg
END:VEVENT
BEGIN:VEVENT
DTSTART;VALUE=DATE:20230508
DTEND;VALUE=DATE:20230513
DTSTAMP:20260424T180726
CREATED:20230310T104802Z
LAST-MODIFIED:20230310T105050Z
UID:10000799-1683504000-1683935999@www.fieraroma.it
SUMMARY:H2020 FitDrive project - Cycle 1 tests
DESCRIPTION:[vc_row][vc_column width=”1/1″][vc_column_text uncode_shortcode_id=”713005″]Test to measure the state of driving stress for drivers of parcel delivery vans in urban areas\, aimed at creating an artificial intelligence system that can alert the driver of stressful situations before they begin to perceive them. Horizon2020 research project funded by the European Commission[/vc_column_text][vc_column_text uncode_shortcode_id=”164307″]8 volunteers (professional drivers) will drive for an hour on a closed and controlled circuit inside the Fair\, wearing a series of biometric and neurological sensors; the driving instructions are such as to induce states of both boredom due to the monotony of the route and fatigue due to a series of operations to be carried out. The data collected will be used to build an Artificial Intelligence model for analyzing the driver behaviour[/vc_column_text][/vc_column][/vc_row]
URL:https://www.fieraroma.it/en/evento/h2020-fitdrive-project-cycle-1-tests/
LOCATION:Fiera di Roma\, Via Portuense\, 1645\, Roma\, 00148\, Italia
CATEGORIES:Convegno|Fiera
ATTACH;FMTTYPE=image/jpeg:https://www.fieraroma.it/wp-content/uploads/h2020_logo.jpg
ORGANIZER;CN="Associazione Italiana dei Professionisti per la Sicurezza Stradale - Universit%C3%A0 ROMATRE%2C Dipartimento di Ingegneria - Universit%C3%A0 di Roma 'La Sapienza'":MAILTO:info@aipss.it
END:VEVENT
END:VCALENDAR