BEGIN:VCALENDAR
VERSION:2.0
PRODID:-//Fiera Roma - ECPv6.15.17.1//NONSGML v1.0//EN
CALSCALE:GREGORIAN
METHOD:PUBLISH
X-WR-CALNAME:Fiera Roma
X-ORIGINAL-URL:https://www.fieraroma.it/en/
X-WR-CALDESC:Events for Fiera Roma
REFRESH-INTERVAL;VALUE=DURATION:PT1H
X-Robots-Tag:noindex
X-PUBLISHED-TTL:PT1H
BEGIN:VTIMEZONE
TZID:Europe/Rome
BEGIN:DAYLIGHT
TZOFFSETFROM:+0100
TZOFFSETTO:+0200
TZNAME:CEST
DTSTART:20240331T010000
END:DAYLIGHT
BEGIN:STANDARD
TZOFFSETFROM:+0200
TZOFFSETTO:+0100
TZNAME:CET
DTSTART:20241027T010000
END:STANDARD
BEGIN:DAYLIGHT
TZOFFSETFROM:+0100
TZOFFSETTO:+0200
TZNAME:CEST
DTSTART:20250330T010000
END:DAYLIGHT
BEGIN:STANDARD
TZOFFSETFROM:+0200
TZOFFSETTO:+0100
TZNAME:CET
DTSTART:20251026T010000
END:STANDARD
BEGIN:DAYLIGHT
TZOFFSETFROM:+0100
TZOFFSETTO:+0200
TZNAME:CEST
DTSTART:20260329T010000
END:DAYLIGHT
BEGIN:STANDARD
TZOFFSETFROM:+0200
TZOFFSETTO:+0100
TZNAME:CET
DTSTART:20261025T010000
END:STANDARD
END:VTIMEZONE
BEGIN:VEVENT
DTSTART;VALUE=DATE:20251128
DTEND;VALUE=DATE:20251201
DTSTAMP:20260424T132052
CREATED:20250306T152737Z
LAST-MODIFIED:20250306T153421Z
UID:81814-1764288000-1764547199@www.fieraroma.it
SUMMARY:EvooTrends
DESCRIPTION:[vc_row][vc_column][vc_column_text uncode_shortcode_id=”100787″]EVOOTRENDS\, the event dedicated to extra virgin olive oil\nDuring the event the EVO Oil\, the king product of the Mediterranean Diet\, will be protagonist. In the event’s plaza\, all the operators of the olive-oil supply chain will converge to discuss the most current and performing issues.\nMeetings\, debates\, workshops\, educational workshops\, will see the involvement of all partners and suppliers that gravitate around the world of EVO Oil[/vc_column_text][vc_gallery el_id=”gallery-462671″ medias=”81809\,81807″ gutter_size=”3″ screen_lg=”1000″ screen_md=”600″ screen_sm=”480″ single_overlay_opacity=”50″ single_padding=”2″ uncode_shortcode_id=”138066″][vc_column_text uncode_shortcode_id=”186819″]Entrance: Free[/vc_column_text][/vc_column][/vc_row]
URL:https://www.fieraroma.it/en/evento/evootrends/
LOCATION:Fiera di Roma\, Via Portuense\, 1645\, Roma\, 00148\, Italia
CATEGORIES:Fair
ATTACH;FMTTYPE=image/jpeg:https://www.fieraroma.it/wp-content/uploads/Logo-Evoo-Trends_511x413.jpg
END:VEVENT
END:VCALENDAR