BEGIN:VCALENDAR
VERSION:2.0
PRODID:-//Fiera Roma - ECPv6.15.17.1//NONSGML v1.0//EN
CALSCALE:GREGORIAN
METHOD:PUBLISH
X-WR-CALNAME:Fiera Roma
X-ORIGINAL-URL:https://www.fieraroma.it/en/
X-WR-CALDESC:Events for Fiera Roma
REFRESH-INTERVAL;VALUE=DURATION:PT1H
X-Robots-Tag:noindex
X-PUBLISHED-TTL:PT1H
BEGIN:VTIMEZONE
TZID:Europe/Rome
BEGIN:DAYLIGHT
TZOFFSETFROM:+0100
TZOFFSETTO:+0200
TZNAME:CEST
DTSTART:20250330T010000
END:DAYLIGHT
BEGIN:STANDARD
TZOFFSETFROM:+0200
TZOFFSETTO:+0100
TZNAME:CET
DTSTART:20251026T010000
END:STANDARD
BEGIN:DAYLIGHT
TZOFFSETFROM:+0100
TZOFFSETTO:+0200
TZNAME:CEST
DTSTART:20260329T010000
END:DAYLIGHT
BEGIN:STANDARD
TZOFFSETFROM:+0200
TZOFFSETTO:+0100
TZNAME:CET
DTSTART:20261025T010000
END:STANDARD
BEGIN:DAYLIGHT
TZOFFSETFROM:+0100
TZOFFSETTO:+0200
TZNAME:CEST
DTSTART:20270328T010000
END:DAYLIGHT
BEGIN:STANDARD
TZOFFSETFROM:+0200
TZOFFSETTO:+0100
TZNAME:CET
DTSTART:20271031T010000
END:STANDARD
END:VTIMEZONE
BEGIN:VEVENT
DTSTART;VALUE=DATE:20260306
DTEND;VALUE=DATE:20260309
DTSTAMP:20260424T150014
CREATED:20250522T154530Z
LAST-MODIFIED:20250522T154541Z
UID:81969-1772755200-1773014399@www.fieraroma.it
SUMMARY:MotoDays
DESCRIPTION:[vc_row][vc_column width=”1/1″][/vc_column][/vc_row]
URL:https://www.fieraroma.it/en/evento/motodays-2026/
LOCATION:Fiera di Roma\, Via Portuense\, 1645\, Roma\, 00148\, Italia
CATEGORIES:Fair
ATTACH;FMTTYPE=image/jpeg:https://www.fieraroma.it/wp-content/uploads/logo_motodays_2024.jpg
END:VEVENT
END:VCALENDAR