BEGIN:VCALENDAR
VERSION:2.0
PRODID:-//Fiera Roma - ECPv6.15.17.1//NONSGML v1.0//EN
CALSCALE:GREGORIAN
METHOD:PUBLISH
X-WR-CALNAME:Fiera Roma
X-ORIGINAL-URL:https://www.fieraroma.it/en/
X-WR-CALDESC:Events for Fiera Roma
REFRESH-INTERVAL;VALUE=DURATION:PT1H
X-Robots-Tag:noindex
X-PUBLISHED-TTL:PT1H
BEGIN:VTIMEZONE
TZID:Europe/Rome
BEGIN:DAYLIGHT
TZOFFSETFROM:+0100
TZOFFSETTO:+0200
TZNAME:CEST
DTSTART:20240331T010000
END:DAYLIGHT
BEGIN:STANDARD
TZOFFSETFROM:+0200
TZOFFSETTO:+0100
TZNAME:CET
DTSTART:20241027T010000
END:STANDARD
BEGIN:DAYLIGHT
TZOFFSETFROM:+0100
TZOFFSETTO:+0200
TZNAME:CEST
DTSTART:20250330T010000
END:DAYLIGHT
BEGIN:STANDARD
TZOFFSETFROM:+0200
TZOFFSETTO:+0100
TZNAME:CET
DTSTART:20251026T010000
END:STANDARD
BEGIN:DAYLIGHT
TZOFFSETFROM:+0100
TZOFFSETTO:+0200
TZNAME:CEST
DTSTART:20260329T010000
END:DAYLIGHT
BEGIN:STANDARD
TZOFFSETFROM:+0200
TZOFFSETTO:+0100
TZNAME:CET
DTSTART:20261025T010000
END:STANDARD
END:VTIMEZONE
BEGIN:VEVENT
DTSTART;VALUE=DATE:20251112
DTEND;VALUE=DATE:20251115
DTSTAMP:20260424T150038
CREATED:20250806T143403Z
LAST-MODIFIED:20250806T143445Z
UID:82034-1762905600-1763164799@www.fieraroma.it
SUMMARY:Ro.Me Museum Exhibition
DESCRIPTION:[vc_row][vc_column][vc_column_text uncode_shortcode_id=”109385″]\n\n  \n\n  \n\nRO.ME é un evento unico e innovativo nel panorama italiano. Una piattaforma professionale e internazionale per le istituzioni e le aziende operanti nei musei\, nei luoghi culturali e nell’arte. Un luogo dove ispirarsi\, in cui condividere progetti\, opportunità di business e networking. \nRO.ME – Museum Exhibition è realizzata da Fiera di Roma e da ISI.Urb\, col patrocinio del Ministero per i Beni e le Attività Culturali e per il Turismo\, del Ministero degli Affari Esteri e della Cooperazione Internazionale\, della Regione Lazio\, di Roma Capitale\, di Unioncamere Lazio e della Camera di Commercio di Roma. \nTipologia Evento: \n\nExhibition – Conference – BtoB – BtoG \n\n  \n\n  \n\n  \n\n  \n\n  \n\n  \n\n  \n[/vc_column_text][/vc_column][/vc_row]
URL:https://www.fieraroma.it/en/evento/rome-museum-exhibition-2025/
LOCATION:Fiera di Roma\, Via Portuense\, 1645\, Roma\, 00148\, Italia
CATEGORIES:Fair
ATTACH;FMTTYPE=image/jpeg:https://www.fieraroma.it/wp-content/uploads/2022/10/ROME-EX-22.jpg
END:VEVENT
END:VCALENDAR