BEGIN:VCALENDAR
VERSION:2.0
PRODID:-//Fiera Roma - ECPv6.15.17.1//NONSGML v1.0//EN
CALSCALE:GREGORIAN
METHOD:PUBLISH
X-ORIGINAL-URL:https://www.fieraroma.it
X-WR-CALDESC:Eventi per Fiera Roma
REFRESH-INTERVAL;VALUE=DURATION:PT1H
X-Robots-Tag:noindex
X-PUBLISHED-TTL:PT1H
BEGIN:VTIMEZONE
TZID:Europe/Rome
BEGIN:DAYLIGHT
TZOFFSETFROM:+0100
TZOFFSETTO:+0200
TZNAME:CEST
DTSTART:20210328T010000
END:DAYLIGHT
BEGIN:STANDARD
TZOFFSETFROM:+0200
TZOFFSETTO:+0100
TZNAME:CET
DTSTART:20211031T010000
END:STANDARD
BEGIN:DAYLIGHT
TZOFFSETFROM:+0100
TZOFFSETTO:+0200
TZNAME:CEST
DTSTART:20220327T010000
END:DAYLIGHT
BEGIN:STANDARD
TZOFFSETFROM:+0200
TZOFFSETTO:+0100
TZNAME:CET
DTSTART:20221030T010000
END:STANDARD
BEGIN:DAYLIGHT
TZOFFSETFROM:+0100
TZOFFSETTO:+0200
TZNAME:CEST
DTSTART:20230326T010000
END:DAYLIGHT
BEGIN:STANDARD
TZOFFSETFROM:+0200
TZOFFSETTO:+0100
TZNAME:CET
DTSTART:20231029T010000
END:STANDARD
BEGIN:DAYLIGHT
TZOFFSETFROM:+0100
TZOFFSETTO:+0200
TZNAME:CEST
DTSTART:20240331T010000
END:DAYLIGHT
BEGIN:STANDARD
TZOFFSETFROM:+0200
TZOFFSETTO:+0100
TZNAME:CET
DTSTART:20241027T010000
END:STANDARD
END:VTIMEZONE
BEGIN:VEVENT
DTSTART;VALUE=DATE:20230304
DTEND;VALUE=DATE:20230306
DTSTAMP:20260424T150128
CREATED:20230123T153822Z
LAST-MODIFIED:20230123T153822Z
UID:10000785-1677888000-1678060799@www.fieraroma.it
SUMMARY:Quattrozampeinfiera 2023
DESCRIPTION:QUATTROZAMPEINFIERA consente ai proprietari di cani e gatti di vivere 2 giornate in compagnia dei propri “amici a quattro zampe”. \nEducatori\, comportamentalisti\, veterinari\, associazioni e aziende\, sono tutti rigorosamente a disposizione dei visitatori per consigli\, formazione\, informazione\, aggiornamenti e vendita di prodotti e servizi che semplifichino la gestione delle esigenze del cane o gatto. \nUn luogo in cui poter interagire con i player di settore per confrontarsi\, migliorare la qualità della vita col proprio “amico fedele” e dove poter condividere la propria passione per gli amici a quattro zampe.
URL:https://www.fieraroma.it/evento/quattrozampeinfiera_2023/
LOCATION:Fiera di Roma\, Via Portuense\, 1645\, Roma\, 00148\, Italia
CATEGORIES:Fiera
ATTACH;FMTTYPE=image/jpeg:https://www.fieraroma.it/wp-content/uploads/Quattrozampeinfiera_511x413.jpg
ORGANIZER;CN="EVENTS FACTORY ITALY S.R.L.":MAILTO:info@quattrozampeinfiera.it
END:VEVENT
BEGIN:VEVENT
DTSTART;TZID=Europe/Rome:20230217T000000
DTEND;TZID=Europe/Rome:20230219T235959
DTSTAMP:20260424T150128
CREATED:20221121T182348Z
LAST-MODIFIED:20221212T145147Z
UID:10000768-1676592000-1676851199@www.fieraroma.it
SUMMARY:Canapa Mundi
DESCRIPTION:La Fiera Internazionale che dal 2015 porta i profumi e i sapori della Canapa nella Capitale: l’evento del settore più grande d’Italia\, l’unica riconosciuta ufficialmente come Internazionale\, in esponenziale crescita. \n\n\n\n\n\nCanapa Mundi è Garanzia di successo per gli espositori. Opportunità di conoscenza\, divertimento e convenienza per i visitatori. Contributo per la trasformazione culturale della nostra società e per lo sviluppo di un ambito così importante della nostra economia.Attraverso stand\, workshop\, conferenze\, proiezioni\, mostre e laboratori si incontrano cibo\, abiti\, bioplastiche\, prodotti per coltivazione\, tecniche di costruzione\, strumenti per consumatori e pazienti. \n\n\n\nCanapa Mundi è la celebrazione della pianta per eccellenza sinonimo di forza\, resistenza\, buona salute\, rispetto per l’ambiente e per le nostre radici storicheDa tutto il mondo\, e da ogni ambito del sapere e della vita quotidiana\, Tutte le strade portano a Canapa Mundi. \n\n\n\nPADIGLIONE: 1INGRESSO: ESTTIPO EVENTO: B2B\, B2C
URL:https://www.fieraroma.it/evento/canapa-mundi/
LOCATION:Fiera di Roma\, Via Portuense\, 1645\, Roma\, 00148\, Italia
CATEGORIES:Fiera
ATTACH;FMTTYPE=image/png:https://www.fieraroma.it/wp-content/uploads/2022/11/canapa-mundi-1.png
END:VEVENT
BEGIN:VEVENT
DTSTART;VALUE=DATE:20221231
DTEND;VALUE=DATE:20230101
DTSTAMP:20260424T150128
CREATED:20221222T093720Z
LAST-MODIFIED:20250408T073625Z
UID:10000777-1672444800-1672531199@www.fieraroma.it
SUMMARY:Trend Music Festival
DESCRIPTION:[vc_row][vc_column width=”1/1″][vc_column_text uncode_shortcode_id=”862773″]Trend Music Festival: la notte di Tendenza nella città eterna. \nFiera di Roma ospiterà il festival\, abbracciando le correnti musicali più di tendenza degli ultimi anni\, con 3 format musicali: commerciale\, reggaeton e trap. \nOgni format avrà più di una Special Guest di fama internazionale\, dalla caratura di Guè Pequeno\, GEOLIER e tanti altri artisti\, con l’obiettivo di soddisfare ogni gusto musicale e ogni tipo di experience: dalla pista da ballo\, passando per il buffet\, fino agli esclusivissimi privee. \nTREND MUSIC FESTIVAL \nNew Year’s Eve 2023 \nOre 20:30 ingresso e accoglienza clienti \nOre 21:15 nel trend commerciale buffet per rendere dinamico e caloroso l’ambiente\, senza distanziamenti e con l’intrattenimento di Dj e Voice che ci accompagneranno alla mezzanotte. \nOre 22:45 – INIZIO SHOW JIMMY SAX \nOre 24:00 – BRINDISI Open Bollicine & Dj Set \nOre 24:30 – Ospite LIVE e Dj Set \nOre 1:00 – Live GEOLIER \nOre 1:45 Show DJ SET \n– – – – GUE LIVE \nOre 3:45 NelTrend Reggaeton “SENORITA” IL PARTY Reggaeton più passionale d’Italia \nOre 4:15 Live di un artista REGGAETON INTERNAZIONALE TBA \nInfo line +39 393 5313969[/vc_column_text][/vc_column][/vc_row]
URL:https://www.fieraroma.it/evento/trend-music-festival/
LOCATION:Fiera di Roma\, Via Portuense\, 1645\, Roma\, 00148\, Italia
ATTACH;FMTTYPE=image/jpeg:https://www.fieraroma.it/wp-content/uploads/logo_trend_music_festival_511x413.jpg
ORGANIZER;CN="GAF S.r.l.":MAILTO:trendmusicfestival@gmail.com
END:VEVENT
BEGIN:VEVENT
DTSTART;TZID=Europe/Rome:20221201T000000
DTEND;TZID=Europe/Rome:20221203T235959
DTSTAMP:20260424T150128
CREATED:20221011T083635Z
LAST-MODIFIED:20221201T151737Z
UID:10000757-1669852800-1670111999@www.fieraroma.it
SUMMARY:NSE - New Space Economy European Expoforum
DESCRIPTION:NSE\, il New Space Economy Expoforum\, è l’appuntamento annuale sugli impatti economici del settore spaziale\, su ciò che guida la rapida evoluzione del coinvolgimento istituzionale e privato nel New Space. \n\n\n\nNSE offre una rapida panoramica sul potenziale crescente del settore spaziale alla più ampia comunità di utenti e sui nuovi potenziali stakeholder e opportunità di business a livello nazionale e internazionale. \n\n\n\nNSE mette in rete grandi attori industriali\, piccole e medie imprese innovative\, investitori\, venturer\, startup\, centri di ricerca\, università\, agenzie spaziali\, istituzioni e organizzazioni internazionali. \n\n\n\nNSE 2022 beneficia di un approccio multidisciplinare per fornire soluzioni spaziali agli utenti non spaziali nella costruzione di una società sostenibile e ispirare le prossime generazioni. \n\n\n\nPadiglioni: 9 – 10 \n\n\n\nIngressi: \n\n\n\n\nAREA EXPO (PAD.9) – GRATUITA\n\n\n\nCONFERENZA SCIENTIFICA (PAD. 10) – A PAGAMENTO\n\n\n\n\nOrari: dalle ore 9.00 alle ore 18.00
URL:https://www.fieraroma.it/evento/nse-new-space-economy-european-expoforum/
LOCATION:Fiera di Roma\, Via Portuense\, 1645\, Roma\, 00148\, Italia
CATEGORIES:Convegno
ATTACH;FMTTYPE=image/jpeg:https://www.fieraroma.it/wp-content/uploads/2022/10/NSE-22.jpg
END:VEVENT
BEGIN:VEVENT
DTSTART;TZID=Europe/Rome:20221116T000000
DTEND;TZID=Europe/Rome:20221118T235959
DTSTAMP:20260424T150128
CREATED:20221011T084344Z
LAST-MODIFIED:20221118T004343Z
UID:10000758-1668556800-1668815999@www.fieraroma.it
SUMMARY:Ro.Me Museum Exhibition
DESCRIPTION:La manifestazione si svolgerà presso la BIBLIOTECA NAZIONALE CENTRALE DI ROMA – Viale Castro Pretorio\, 105 – 00185 Roma\, Italia \n\n\n\nRO.ME é un evento unico e innovativo nel panorama italiano. Una piattaforma professionale e internazionale per le istituzioni e le aziende operanti nei musei\, nei luoghi culturali e nell’arte. Un luogo dove ispirarsi\, in cui condividere progetti\, opportunità di business e networking. \n\n\n\nRO.ME – Museum Exhibition è realizzata da Fiera di Roma e da ISI.Urb\, col patrocinio del Ministero per i Beni e le Attività Culturali e per il Turismo\, del Ministero degli Affari Esteri e della Cooperazione Internazionale\, della Regione Lazio\, di Roma Capitale\, di Unioncamere Lazio e della Camera di Commercio di Roma. \n\n\n\nTipologia Evento: \n\n\n\nExhibition – Conference – BtoB – BtoG
URL:https://www.fieraroma.it/evento/ro-me-museum-exhibition/
LOCATION:Fiera di Roma\, Via Portuense\, 1645\, Roma\, 00148\, Italia
CATEGORIES:Fiera
ATTACH;FMTTYPE=image/jpeg:https://www.fieraroma.it/wp-content/uploads/2022/10/ROME-EX-22.jpg
END:VEVENT
BEGIN:VEVENT
DTSTART;TZID=Europe/Rome:20221029T000000
DTEND;TZID=Europe/Rome:20221106T235959
DTSTAMP:20260424T150128
CREATED:20221011T081733Z
LAST-MODIFIED:20221118T004323Z
UID:10000756-1667001600-1667779199@www.fieraroma.it
SUMMARY:MOACASA
DESCRIPTION:Mostra di arredo e design\n\n\n\nMoa Società Cooperativa è formata da soci tutti operatori del settore mobili e arredi\, da cui il nome ‘MOA’. La missione aziendale della Cooperativa è la promozione delle attività commerciali attraverso mostre\, convegni e l’istituzione di osservatori privilegiati per il controllo della qualità\, del prezzo e la selezione degli operatori. Dal 1975\, anno di costituzione della Cooperativa\, le iniziative sono state orientate non solo all’arredo in termini commerciali ma anche al design e\, negli ultimi anni\, alla ristrutturazione di interni ed esterni. Da circa oltre 40 anni MOA Società Cooperativa racchiude tra i suoi espositori le migliori aziende italiane\, il cui pregio viene valorizzato da un format espositivo progettato con lo specifico intento di far dialogare con intelligenza industria e artigianato di alto livello\, classico e design\, promuovendo i marchi più significativi del Made in Italy. Una ricetta vincente che conta per ognuno dei due appuntamenti fieristici\, MoaCasa e Casaidea\, oltre 100.000 visitatori l’anno. “Nelle nostre manifestazioni trovano spazio diverse forme d’arredo\, dalla tradizione ai giovani designer\, ma sempre all’insegna dell’innovazione e dei servizi a valore aggiunto proposti al pubblico. La missione di MOA Società Cooperativa è di favorire la tradizione italiana con manufatti artigianali di qualità prodotti dalle nostre aziende\, grazie al supporto di operatori qualificati e di anticipare le novità del settore\, presentando in anteprima ai visitatori i trend di design e di mercato”.
URL:https://www.fieraroma.it/evento/moacasa/
LOCATION:Fiera di Roma\, Via Portuense\, 1645\, Roma\, 00148\, Italia
CATEGORIES:Fiera
ATTACH;FMTTYPE=image/jpeg:https://www.fieraroma.it/wp-content/uploads/2022/10/Moacasa-22.jpg
ORGANIZER;CN="Moa Societ%C3%A0 Cooperativa":MAILTO:info@moacasa.com
END:VEVENT
BEGIN:VEVENT
DTSTART;VALUE=DATE:20221019
DTEND;VALUE=DATE:20221022
DTSTAMP:20260424T150128
CREATED:20240411T111944Z
LAST-MODIFIED:20240411T111944Z
UID:10000883-1666137600-1666396799@www.fieraroma.it
SUMMARY:Blue Planet Economy
DESCRIPTION:Si gioca principalmente nel Mediterraneo\, da sempre luogo di sfide\, il futuro dell’ecosistema marino globale\, delle risorse ad esso collegate e del nuovo concetto di economia marittima sostenibile! \n\n\n\nFocus geo-economico di BLUE PLANET ECONOMY è il Mediterraneo\, ossia il continente formato dai paesi che si affacciano sulle due sponde del mare di mezzo\, ma che si estende anche ad altri paesi costieri dell’Africa e dell’Asia\, proprio per le tradizionali connessioni economico-culturali che questi intrattengono con il Mediterraneo. \n\n\n\nIl Forum affronta i trend-topic più attuali della Blue Economy nell’unica declinazione possibile\, quella dell’innovazione verso la piena sostenibilità. \n\n\n\nInnovazione e crescita nei settori dell’economia costiera\, dall’energia ai trasporti\, alle risorse ittiche\, alla cantieristica e al diporto fino ai sistemi turistici costieri saranno fondamento di un sicuro sviluppo sostenibile. \n\n\n\nFocus Imprese è individuare infine le aree di innovazione e di potenziale sviluppo dell’economia del mare\, guardando a tutti gli attori\, in special modo alle imprese\, per fornire la piattaforma ideale per lo scambio di nuove idee di business e di interconnessione. E’ questo l’obiettivo centrale della seconda edizione di BLUE PLANET ECONOMY Expoforum che si terrà in presenza in Fiera Roma\, dopo una prima edizione totalmente digitale. \n\n\n\nI Player\n\n\n\nImprese: PMI e industrie\, network di operatori; Istituzioni nazionali e internazionali; Associazioni di categoria; Università e Centri di ricerca; Investitori e Venture Capital; Fondazioni; ONG e Terzo Settore \n\n\n\nSettori Target: \n\n\n\n\nBlue Food\n\n\n\nBlue Energy\n\n\n\nBlue Life Protection\n\n\n\nBlue Mobility & Logistics\n\n\n\nBlue Tourism\n\n\n\nBlue Education & Training\n\n\n\n\n  \n\n\n\nEvento digitale su registrazione
URL:https://www.fieraroma.it/evento/blue-planet-economy/
LOCATION:Fiera di Roma\, Via Portuense\, 1645\, Roma\, 00148\, Italia
CATEGORIES:Fiera
ATTACH;FMTTYPE=image/jpeg:https://www.fieraroma.it/wp-content/uploads/2022/10/bpe-23.jpg
END:VEVENT
BEGIN:VEVENT
DTSTART;TZID=Europe/Rome:20221019T000000
DTEND;TZID=Europe/Rome:20221021T235959
DTSTAMP:20260424T150128
CREATED:20221011T081442Z
LAST-MODIFIED:20221118T004302Z
UID:10000755-1666137600-1666396799@www.fieraroma.it
SUMMARY:Salone Nazionale dello Studente
DESCRIPTION:La più grande manifestazione in Italia dedicata ai temi dell’orientamento post-diploma organizzata in collaborazione con Regione Lazio. Tre giorni\, validi ai fini PCTO\, durante i quali studenti\, docenti e famiglie potranno incontrare università\, accademie\, its\, aziende\, enti di formazione e istituzioni di tutto il territorio nazionale. Previste simulazioni di test di ammissione ai corsi di laurea a numero chiuso\, sportelli di counseling\, workshop sulle professioni del futuro e convegni validi ai fini della formazione docenti. \n\n\n\nIgresso libero e gratuito previa registrazione sul sito www.salonedellostudente.it \n\n\n\nIngresso: EST \n\n\n\nPadiglione: 3
URL:https://www.fieraroma.it/evento/salone-nazionale-dello-studente/
LOCATION:Fiera di Roma\, Via Portuense\, 1645\, Roma\, 00148\, Italia
CATEGORIES:Fiera
ATTACH;FMTTYPE=image/jpeg:https://www.fieraroma.it/wp-content/uploads/2022/10/salone-studente-22.jpg
ORGANIZER;CN="Campus Editori S.r.l.":MAILTO:salonedellostudente@class.it
END:VEVENT
BEGIN:VEVENT
DTSTART;TZID=Europe/Rome:20221013T000000
DTEND;TZID=Europe/Rome:20221015T235959
DTSTAMP:20260424T150128
CREATED:20221011T081144Z
LAST-MODIFIED:20221118T004238Z
UID:10000754-1665619200-1665878399@www.fieraroma.it
SUMMARY:Welfair
DESCRIPTION:WELFAIR è l’evento\, organizzato da Fiera Roma\, il cui nome nasce nel 2020 dall’unione dei termini “Well-being” (lo Stare Bene) e “Fair” (la Fiera). E’ l’evento dedicato al benessere\, alla salute e alla qualità della vita di ogni singola persona\, che guarda a tutti gli aspetti dello stato fisico\, mentale e sociale. Tre giorni di incontri\, approfondimenti e contatti: una grande opportunità per il settore della Salute e della Qualità della vita\, per sostenere la crescita e l’evoluzione dell’obiettivo “Well-being” come strategia collettiva di conoscenze e competenze\, proponendo uno spazio di scambio\, interazione e collaborazione tra i diversi elementi che compongono la filiera. \n\n\n\nCentro congressi\, Pad. 10
URL:https://www.fieraroma.it/evento/welfair/
LOCATION:Fiera di Roma\, Via Portuense\, 1645\, Roma\, 00148\, Italia
CATEGORIES:Fiera
ATTACH;FMTTYPE=image/jpeg:https://www.fieraroma.it/wp-content/uploads/2022/10/welfair-22.jpg
END:VEVENT
BEGIN:VEVENT
DTSTART;TZID=Europe/Rome:20221012T000000
DTEND;TZID=Europe/Rome:20221014T235959
DTSTAMP:20260424T150128
CREATED:20221007T073910Z
LAST-MODIFIED:20221118T004232Z
UID:10000752-1665532800-1665791999@www.fieraroma.it
SUMMARY:Zero Emission Mediterranean
DESCRIPTION:Mostra Convegno internazionale dedicataalla produzione elettrica\, all’accumulo e alla mobilitàa zero emissioni\n\n\n\nZEROEMISSION MEDITERRANEAN 2022\, con i suoi Saloni tematici\, è la manifestazione internazionale in programma a Fiera di Roma dedicata alle tecnologie per la produzione di elettricità dal sole\, dal vento\, storage elettrico\, inverter\, gestione e distribuzione dell’elettricità da fonti rinnovabili\, industria dei sistemi di accumulo\, idrogeno e celle a combustibile\, reti elettriche e smart grids\, e settore dei veicoli elettrici e delle infrastrutture per la mobilità elettrica. \n\n\n\nGRATUITO CON PREREGISTRAZIONE – RISERVATO AGLI OPERATORI
URL:https://www.fieraroma.it/evento/zero-emission-mediterranean/
LOCATION:Fiera di Roma\, Via Portuense\, 1645\, Roma\, 00148\, Italia
CATEGORIES:Fiera
ATTACH;FMTTYPE=image/jpeg:https://www.fieraroma.it/wp-content/uploads/2022/10/zeroemission.jpg
ORGANIZER;CN="A151 S.R.L.":MAILTO:events@zeroemission.show
END:VEVENT
BEGIN:VEVENT
DTSTART;TZID=Europe/Rome:20221012T000000
DTEND;TZID=Europe/Rome:20221014T235959
DTSTAMP:20260424T150128
CREATED:20221006T224203Z
LAST-MODIFIED:20221118T004221Z
UID:10000751-1665532800-1665791999@www.fieraroma.it
SUMMARY:Eolica Mediterranean
DESCRIPTION:Mostra Convegno internazionale dedicata all’energia eolica per il Sud europa e il Mediterraneo\n\n\n\nRitorna a Roma EOLICA MEDITERRANEAN \, la Manifestazione Internazionale dedicata all’energia eolica onshore e off-shore e alla sua catena industriale. Fulcro della Manifestazione è la sua internazionalità con migliaia di visitatori provenienti dall’Europa del Sud e dall’area Mediterranea\, che visiteranno la Fiera e parteciperanno ai numerosi convegni\, seminari e workshop. I visitatori\, provenienti da tutto il mondo\, saranno direttamente invitati dall’Organizzatore\, dagli espositori\, dalle associazioni e dagli uffici diplomatici aventi sede a Roma. EOLICA MEDITERRANEAN si svolgerà in contemporanea a ZEROEMISSION MEDITERRANEAN la Fiera dedicata all’elettrificazione dei consumi\, alla decarbonizzazione della produzione energetica ed alla sostenibilità ambientale \n\n\n\nGRATUITO CON PREREGISTRAZIONE – RISERVATO AGLI OPERATOR
URL:https://www.fieraroma.it/evento/eolica-mediterranean-22/
LOCATION:Fiera di Roma\, Via Portuense\, 1645\, Roma\, 00148\, Italia
CATEGORIES:Fiera
ATTACH;FMTTYPE=image/jpeg:https://www.fieraroma.it/wp-content/uploads/2022/10/Eolica-22.jpg
ORGANIZER;CN="A151 S.R.L.":MAILTO:events@zeroemission.show
END:VEVENT
BEGIN:VEVENT
DTSTART;TZID=Europe/Rome:20221007T000000
DTEND;TZID=Europe/Rome:20221007T235959
DTSTAMP:20260424T150128
CREATED:20221006T215414Z
LAST-MODIFIED:20221118T004217Z
UID:10000750-1665100800-1665187199@www.fieraroma.it
SUMMARY:Cage Warriors Rome
DESCRIPTION:La più importante organizzazione europea di arti marziali miste arriverà a Roma il 7 ottobre\, per una serata di intrattenimento ricca di azione. \n\n\n\nCon un’enorme reputazione alle spalle dovuta alle numerose star del MMA sviluppatesi nel corso dei suoi 20anni di storia\, Cage Warriors farà il suo debutto in Italia con CW 144 alla Fiera di Roma. \n\n\n\nCARTA COMBATTIMENTO \n\n\n\nDom Wooding (c) vs. Michele Martignoni | titolo dei pesi galloMorgan Charrière vs. Alberth Dias | incontro peso piumaCarlo Pedersoli Jr vs. Madars Fleminas | incontro dei pesi welterDylan Hazan vs. Daan Duijs | incontro dei pesi galloBryony Tyrell vs. Micol Di Segni | incontro con i pesi di pagliaEmanuele Sabatino vs. Karol Michalak | incontro dei pesi welterJoan Arastey vs. Dario Bellandi | incontro dei pesi mediJasmine Favero vs. Awa Sow | incontro dei pesi gallo \n\n\n\nALTRI COMBATTI DA AGGIUNGERECARTA COMBATTIMENTO SOGGETTA A CAMBIAMENTICOMBATTIMENTO DELL’ORDINE DA CONFERMARE \n\n\n\n\n\n\n\n\n\n\n\n\n\n\nTICKET \n\n\n\nAcquista il biglietto su Vivaticket\n\n\n\n\nAcquista
URL:https://www.fieraroma.it/evento/cage-warriors-rome-2022/
LOCATION:Fiera di Roma\, Via Portuense\, 1645\, Roma\, 00148\, Italia
CATEGORIES:Fiera
ATTACH;FMTTYPE=image/jpeg:https://www.fieraroma.it/wp-content/uploads/2022/10/Cage-warriors-rome-22.jpg
END:VEVENT
BEGIN:VEVENT
DTSTART;TZID=Europe/Rome:20221006T000000
DTEND;TZID=Europe/Rome:20221009T235959
DTSTAMP:20260424T150128
CREATED:20221006T131045Z
LAST-MODIFIED:20221118T004414Z
UID:10000749-1665014400-1665359999@www.fieraroma.it
SUMMARY:Romics
DESCRIPTION:ROMICS è la grande rassegna internazionale sul fumetto\, l’animazione\, cinema e i games\, organizzata dalla Fiera di Roma e da ISI.Urb. \n\n\n\n4 giorni di kermesse ininterrotta con eventi\, incontri e spettacoli. Il fumetto protagonista dell’Officina del Fumetto\, l’appuntamento per gli addetti ai lavori e per il pubblico per fare il punto sullo stato del fumetto italiano e internazionale\, i grandi successi del cinema e della serialità presentati nel Pala Movie che dà corpo\, voce e anima ai grandi colossal cinematografici ispirati a fumetti e romanzi\, all’animazione e ai videogames; Il Festival è caratterizzato da un programma culturale di livello internazionale\, con prestigiosi ospiti\, mostre\, anteprime\, eventi speciali\, incontri con i responsabili dei più rilevanti festival internazionali\, buyer e operatori del settore. A Romics puoi trovare stand delle case editrici\, fumetterie\, collezionisti\, merchandising\, videogames\, giochi di ruolo e molto molto altro. Conferenze\, tavole rotonde\, incontri sul tema e con gli autori: sul fumetto\, l’animazione\, il rapporto con i nuovi media\, il gioco\, il videogioco\, le interazioni con la fantascienza e il fantasy; inoltre offre l’opportunità di seguire lezioni sul fumetto e l’animazione\, aperte a tutti. \n\n\n\nTra i Grandi Eventi: la gara cosplay più attesa dell’anno\, organizzata in collaborazione con il World Cosplay Summit di Nagoya\, con l’Eurocosplay di Londra\,  la Yamato Cup Cosplay International;  il Romics Kids & Junior\, per i più piccoli\, con laboratori di fumetto\, educational game\, giochi creativi e d’ingegno. Il Concorso Romics dei libri a fumetti\, il concorso Romics – I Castelli Animati – Tutto digitale gli eventi speciali\, grandi mostre. Romics è tutto questo e molto altro ancora per un programma sempre ricchissimo\, con oltre 200.000 visitatori ad ogni edizione.
URL:https://www.fieraroma.it/evento/romics-2022/
LOCATION:Fiera di Roma\, Via Portuense\, 1645\, Roma\, 00148\, Italia
CATEGORIES:Fiera
ATTACH;FMTTYPE=image/jpeg:https://www.fieraroma.it/wp-content/uploads/2022/10/fiera-di-roma-eventi-romics-22.jpg
END:VEVENT
END:VCALENDAR