BEGIN:VCALENDAR
VERSION:2.0
PRODID:-//Fiera Roma - ECPv6.15.17.1//NONSGML v1.0//EN
CALSCALE:GREGORIAN
METHOD:PUBLISH
X-WR-CALNAME:Fiera Roma
X-ORIGINAL-URL:https://www.fieraroma.it
X-WR-CALDESC:Eventi per Fiera Roma
REFRESH-INTERVAL;VALUE=DURATION:PT1H
X-Robots-Tag:noindex
X-PUBLISHED-TTL:PT1H
BEGIN:VTIMEZONE
TZID:Europe/Rome
BEGIN:DAYLIGHT
TZOFFSETFROM:+0100
TZOFFSETTO:+0200
TZNAME:CEST
DTSTART:20220327T010000
END:DAYLIGHT
BEGIN:STANDARD
TZOFFSETFROM:+0200
TZOFFSETTO:+0100
TZNAME:CET
DTSTART:20221030T010000
END:STANDARD
BEGIN:DAYLIGHT
TZOFFSETFROM:+0100
TZOFFSETTO:+0200
TZNAME:CEST
DTSTART:20230326T010000
END:DAYLIGHT
BEGIN:STANDARD
TZOFFSETFROM:+0200
TZOFFSETTO:+0100
TZNAME:CET
DTSTART:20231029T010000
END:STANDARD
BEGIN:DAYLIGHT
TZOFFSETFROM:+0100
TZOFFSETTO:+0200
TZNAME:CEST
DTSTART:20240331T010000
END:DAYLIGHT
BEGIN:STANDARD
TZOFFSETFROM:+0200
TZOFFSETTO:+0100
TZNAME:CET
DTSTART:20241027T010000
END:STANDARD
END:VTIMEZONE
BEGIN:VEVENT
DTSTART;VALUE=DATE:20231010
DTEND;VALUE=DATE:20231013
DTSTAMP:20260424T132406
CREATED:20230711T082428Z
LAST-MODIFIED:20230711T082624Z
UID:80743-1696896000-1697155199@www.fieraroma.it
SUMMARY:Blue Planet Economy Expoforum
DESCRIPTION:[vc_row][vc_column][vc_column_text uncode_shortcode_id=”112159″] \nUna piattaforma originale per l’Innovazione blu BLUE PLANET ECONOMY 2023 sarà innovazione e crescita nei settori dell’economia marina e costiera\, dall’energia ai trasporti\, alla formazione\, alle esperienze professionali degli operatori di domani. Ciò senza trascurare i tradizionali comparti: le risorse ittiche\, i sistemi turistici costieri\, le fonti energetiche dal mare e – ultime e non per ultime – economia circolare e logistica sostenibile. \nPiattaforma ideale per lo scambio di nuove idee di business e interconnessione. Il programma di incontri B2B di BPE 2023 permetterà agli espositori di affacciarsi o consolidare la presenza sui mercati dell’area Mediterranea e dell’Africa Settentrionale e non solo. \n[/vc_column_text][vc_column_text uncode_shortcode_id=”157045″] \nPadiglione: 2 \nIngresso: EST \nNote: IN CONTEMPORANEA CON ZEROEMISSION MEDITERRANEAN \n[/vc_column_text][/vc_column][/vc_row]
URL:https://www.fieraroma.it/evento/blue-planet-economy-2023/
LOCATION:Fiera di Roma\, Via Portuense\, 1645\, Roma\, 00148\, Italia
CATEGORIES:Fiera
ATTACH;FMTTYPE=image/jpeg:https://www.fieraroma.it/wp-content/uploads/2022/10/bpe-23.jpg
END:VEVENT
END:VCALENDAR