BEGIN:VCALENDAR
VERSION:2.0
PRODID:-//Fiera Roma - ECPv6.15.17.1//NONSGML v1.0//EN
CALSCALE:GREGORIAN
METHOD:PUBLISH
X-WR-CALNAME:Fiera Roma
X-ORIGINAL-URL:https://www.fieraroma.it
X-WR-CALDESC:Eventi per Fiera Roma
REFRESH-INTERVAL;VALUE=DURATION:PT1H
X-Robots-Tag:noindex
X-PUBLISHED-TTL:PT1H
BEGIN:VTIMEZONE
TZID:Europe/Rome
BEGIN:DAYLIGHT
TZOFFSETFROM:+0100
TZOFFSETTO:+0200
TZNAME:CEST
DTSTART:20210328T010000
END:DAYLIGHT
BEGIN:STANDARD
TZOFFSETFROM:+0200
TZOFFSETTO:+0100
TZNAME:CET
DTSTART:20211031T010000
END:STANDARD
BEGIN:DAYLIGHT
TZOFFSETFROM:+0100
TZOFFSETTO:+0200
TZNAME:CEST
DTSTART:20220327T010000
END:DAYLIGHT
BEGIN:STANDARD
TZOFFSETFROM:+0200
TZOFFSETTO:+0100
TZNAME:CET
DTSTART:20221030T010000
END:STANDARD
BEGIN:DAYLIGHT
TZOFFSETFROM:+0100
TZOFFSETTO:+0200
TZNAME:CEST
DTSTART:20230326T010000
END:DAYLIGHT
BEGIN:STANDARD
TZOFFSETFROM:+0200
TZOFFSETTO:+0100
TZNAME:CET
DTSTART:20231029T010000
END:STANDARD
END:VTIMEZONE
BEGIN:VEVENT
DTSTART;VALUE=DATE:20221019
DTEND;VALUE=DATE:20221022
DTSTAMP:20260424T150013
CREATED:20240411T111944Z
LAST-MODIFIED:20240411T111944Z
UID:81405-1666137600-1666396799@www.fieraroma.it
SUMMARY:Blue Planet Economy
DESCRIPTION:Si gioca principalmente nel Mediterraneo\, da sempre luogo di sfide\, il futuro dell’ecosistema marino globale\, delle risorse ad esso collegate e del nuovo concetto di economia marittima sostenibile! \n\n\n\nFocus geo-economico di BLUE PLANET ECONOMY è il Mediterraneo\, ossia il continente formato dai paesi che si affacciano sulle due sponde del mare di mezzo\, ma che si estende anche ad altri paesi costieri dell’Africa e dell’Asia\, proprio per le tradizionali connessioni economico-culturali che questi intrattengono con il Mediterraneo. \n\n\n\nIl Forum affronta i trend-topic più attuali della Blue Economy nell’unica declinazione possibile\, quella dell’innovazione verso la piena sostenibilità. \n\n\n\nInnovazione e crescita nei settori dell’economia costiera\, dall’energia ai trasporti\, alle risorse ittiche\, alla cantieristica e al diporto fino ai sistemi turistici costieri saranno fondamento di un sicuro sviluppo sostenibile. \n\n\n\nFocus Imprese è individuare infine le aree di innovazione e di potenziale sviluppo dell’economia del mare\, guardando a tutti gli attori\, in special modo alle imprese\, per fornire la piattaforma ideale per lo scambio di nuove idee di business e di interconnessione. E’ questo l’obiettivo centrale della seconda edizione di BLUE PLANET ECONOMY Expoforum che si terrà in presenza in Fiera Roma\, dopo una prima edizione totalmente digitale. \n\n\n\nI Player\n\n\n\nImprese: PMI e industrie\, network di operatori; Istituzioni nazionali e internazionali; Associazioni di categoria; Università e Centri di ricerca; Investitori e Venture Capital; Fondazioni; ONG e Terzo Settore \n\n\n\nSettori Target: \n\n\n\n\nBlue Food\n\n\n\nBlue Energy\n\n\n\nBlue Life Protection\n\n\n\nBlue Mobility & Logistics\n\n\n\nBlue Tourism\n\n\n\nBlue Education & Training\n\n\n\n\n  \n\n\n\nEvento digitale su registrazione
URL:https://www.fieraroma.it/evento/blue-planet-economy/
LOCATION:Fiera di Roma\, Via Portuense\, 1645\, Roma\, 00148\, Italia
CATEGORIES:Fiera
ATTACH;FMTTYPE=image/jpeg:https://www.fieraroma.it/wp-content/uploads/2022/10/bpe-23.jpg
END:VEVENT
END:VCALENDAR