BEGIN:VCALENDAR
VERSION:2.0
PRODID:-//Fiera Roma - ECPv6.15.17.1//NONSGML v1.0//EN
CALSCALE:GREGORIAN
METHOD:PUBLISH
X-WR-CALNAME:Fiera Roma
X-ORIGINAL-URL:https://www.fieraroma.it
X-WR-CALDESC:Eventi per Fiera Roma
REFRESH-INTERVAL;VALUE=DURATION:PT1H
X-Robots-Tag:noindex
X-PUBLISHED-TTL:PT1H
BEGIN:VTIMEZONE
TZID:Europe/Rome
BEGIN:DAYLIGHT
TZOFFSETFROM:+0100
TZOFFSETTO:+0200
TZNAME:CEST
DTSTART:20210328T010000
END:DAYLIGHT
BEGIN:STANDARD
TZOFFSETFROM:+0200
TZOFFSETTO:+0100
TZNAME:CET
DTSTART:20211031T010000
END:STANDARD
BEGIN:DAYLIGHT
TZOFFSETFROM:+0100
TZOFFSETTO:+0200
TZNAME:CEST
DTSTART:20220327T010000
END:DAYLIGHT
BEGIN:STANDARD
TZOFFSETFROM:+0200
TZOFFSETTO:+0100
TZNAME:CET
DTSTART:20221030T010000
END:STANDARD
BEGIN:DAYLIGHT
TZOFFSETFROM:+0100
TZOFFSETTO:+0200
TZNAME:CEST
DTSTART:20230326T010000
END:DAYLIGHT
BEGIN:STANDARD
TZOFFSETFROM:+0200
TZOFFSETTO:+0100
TZNAME:CET
DTSTART:20231029T010000
END:STANDARD
END:VTIMEZONE
BEGIN:VEVENT
DTSTART;TZID=Europe/Rome:20221007T000000
DTEND;TZID=Europe/Rome:20221007T235959
DTSTAMP:20260424T145908
CREATED:20221006T215414Z
LAST-MODIFIED:20221118T004217Z
UID:77482-1665100800-1665187199@www.fieraroma.it
SUMMARY:Cage Warriors Rome
DESCRIPTION:La più importante organizzazione europea di arti marziali miste arriverà a Roma il 7 ottobre\, per una serata di intrattenimento ricca di azione. \n\n\n\nCon un’enorme reputazione alle spalle dovuta alle numerose star del MMA sviluppatesi nel corso dei suoi 20anni di storia\, Cage Warriors farà il suo debutto in Italia con CW 144 alla Fiera di Roma. \n\n\n\nCARTA COMBATTIMENTO \n\n\n\nDom Wooding (c) vs. Michele Martignoni | titolo dei pesi galloMorgan Charrière vs. Alberth Dias | incontro peso piumaCarlo Pedersoli Jr vs. Madars Fleminas | incontro dei pesi welterDylan Hazan vs. Daan Duijs | incontro dei pesi galloBryony Tyrell vs. Micol Di Segni | incontro con i pesi di pagliaEmanuele Sabatino vs. Karol Michalak | incontro dei pesi welterJoan Arastey vs. Dario Bellandi | incontro dei pesi mediJasmine Favero vs. Awa Sow | incontro dei pesi gallo \n\n\n\nALTRI COMBATTI DA AGGIUNGERECARTA COMBATTIMENTO SOGGETTA A CAMBIAMENTICOMBATTIMENTO DELL’ORDINE DA CONFERMARE \n\n\n\n\n\n\n\n\n\n\n\n\n\n\nTICKET \n\n\n\nAcquista il biglietto su Vivaticket\n\n\n\n\nAcquista
URL:https://www.fieraroma.it/evento/cage-warriors-rome-2022/
LOCATION:Fiera di Roma\, Via Portuense\, 1645\, Roma\, 00148\, Italia
CATEGORIES:Fiera
ATTACH;FMTTYPE=image/jpeg:https://www.fieraroma.it/wp-content/uploads/2022/10/Cage-warriors-rome-22.jpg
END:VEVENT
END:VCALENDAR