BEGIN:VCALENDAR
VERSION:2.0
PRODID:-//Fiera Roma - ECPv6.15.17.1//NONSGML v1.0//EN
CALSCALE:GREGORIAN
METHOD:PUBLISH
X-WR-CALNAME:Fiera Roma
X-ORIGINAL-URL:https://www.fieraroma.it
X-WR-CALDESC:Eventi per Fiera Roma
REFRESH-INTERVAL;VALUE=DURATION:PT1H
X-Robots-Tag:noindex
X-PUBLISHED-TTL:PT1H
BEGIN:VTIMEZONE
TZID:Europe/Rome
BEGIN:DAYLIGHT
TZOFFSETFROM:+0100
TZOFFSETTO:+0200
TZNAME:CEST
DTSTART:20220327T010000
END:DAYLIGHT
BEGIN:STANDARD
TZOFFSETFROM:+0200
TZOFFSETTO:+0100
TZNAME:CET
DTSTART:20221030T010000
END:STANDARD
BEGIN:DAYLIGHT
TZOFFSETFROM:+0100
TZOFFSETTO:+0200
TZNAME:CEST
DTSTART:20230326T010000
END:DAYLIGHT
BEGIN:STANDARD
TZOFFSETFROM:+0200
TZOFFSETTO:+0100
TZNAME:CET
DTSTART:20231029T010000
END:STANDARD
BEGIN:DAYLIGHT
TZOFFSETFROM:+0100
TZOFFSETTO:+0200
TZNAME:CEST
DTSTART:20240331T010000
END:DAYLIGHT
BEGIN:STANDARD
TZOFFSETFROM:+0200
TZOFFSETTO:+0100
TZNAME:CET
DTSTART:20241027T010000
END:STANDARD
END:VTIMEZONE
BEGIN:VEVENT
DTSTART;VALUE=DATE:20230506
DTEND;VALUE=DATE:20230507
DTSTAMP:20260424T132300
CREATED:20230223T085238Z
LAST-MODIFIED:20230223T091627Z
UID:80459-1683331200-1683417599@www.fieraroma.it
SUMMARY:Cage Warriors Rome Maggio 2023
DESCRIPTION:Dopo uno spettacolare debutto a Roma\, i Cage Warriors fanno il loro ritorno per una gigantesca notte di azione MMA!\nCon Emanuele Zaccaria\, Simone Patrizi\, Leon Aliu\, Dylan Hazan\, Carlo Pedersoli e molti altri…\n\n\n\nTICKET \n\n\n\nAcquista il biglietto su Vivaticket\n\n\n\n\nAcquista\n\n\n\n\n 
URL:https://www.fieraroma.it/evento/cage-warriors-rome-maggio-2023/
LOCATION:Fiera di Roma\, Via Portuense\, 1645\, Roma\, 00148\, Italia
ATTACH;FMTTYPE=image/jpeg:https://www.fieraroma.it/wp-content/uploads/Cage-warriors-rome-may-23-1.jpg
END:VEVENT
END:VCALENDAR