BEGIN:VCALENDAR
VERSION:2.0
PRODID:-//Fiera Roma - ECPv6.15.17.1//NONSGML v1.0//EN
CALSCALE:GREGORIAN
METHOD:PUBLISH
X-WR-CALNAME:Fiera Roma
X-ORIGINAL-URL:https://www.fieraroma.it
X-WR-CALDESC:Eventi per Fiera Roma
REFRESH-INTERVAL;VALUE=DURATION:PT1H
X-Robots-Tag:noindex
X-PUBLISHED-TTL:PT1H
BEGIN:VTIMEZONE
TZID:Europe/Rome
BEGIN:DAYLIGHT
TZOFFSETFROM:+0100
TZOFFSETTO:+0200
TZNAME:CEST
DTSTART:20220327T010000
END:DAYLIGHT
BEGIN:STANDARD
TZOFFSETFROM:+0200
TZOFFSETTO:+0100
TZNAME:CET
DTSTART:20221030T010000
END:STANDARD
BEGIN:DAYLIGHT
TZOFFSETFROM:+0100
TZOFFSETTO:+0200
TZNAME:CEST
DTSTART:20230326T010000
END:DAYLIGHT
BEGIN:STANDARD
TZOFFSETFROM:+0200
TZOFFSETTO:+0100
TZNAME:CET
DTSTART:20231029T010000
END:STANDARD
BEGIN:DAYLIGHT
TZOFFSETFROM:+0100
TZOFFSETTO:+0200
TZNAME:CEST
DTSTART:20240331T010000
END:DAYLIGHT
BEGIN:STANDARD
TZOFFSETFROM:+0200
TZOFFSETTO:+0100
TZNAME:CET
DTSTART:20241027T010000
END:STANDARD
END:VTIMEZONE
BEGIN:VEVENT
DTSTART;VALUE=DATE:20231010
DTEND;VALUE=DATE:20231013
DTSTAMP:20260424T132252
CREATED:20230228T152245Z
LAST-MODIFIED:20230525T093723Z
UID:80496-1696896000-1697155199@www.fieraroma.it
SUMMARY:Eolica Mediterranean
DESCRIPTION:[vc_row][vc_column][vc_column_text uncode_shortcode_id=”876863″] \nEOLICA MEDITERRANEAN 2023\, è la fiera internazionale interamente dedicata all’energia eolica onshore e offshore e alla sua intera filiera industriale. \nEOLICA MEDITERRANEAN 2023 si articolerà in una proposta merceologica ancora più completa e con contenuti\, conferenze\, incontri e meetings ancora più interessanti\, con un focus particolare sulle potenzialità di crescita dell’eolico offshore galleggiante nel Mediterraneo e delle nuove previsioni di installato dal PNRR. \nSarà una grande occasione di incontro e confronto a livello mondiale\, l’evento di riferimento per il Sud Europa e per tutto il bacino del Mediterraneo: un’occasione unica per tutte le aziende e i professionisti del settore per rimanere aggiornati sulle ultime tendenze del mercato\, fare business e networking. \nIn contemporanea ZEROEMISSION MEDITERRANEAN. I due eventi rappresentano il riferimento per tutta l’industria elettrica 2.0 a zero emissioni. \n[/vc_column_text][/vc_column][/vc_row]
URL:https://www.fieraroma.it/evento/eolica-mediterranean-2023/
LOCATION:Fiera di Roma\, Via Portuense\, 1645\, Roma\, 00148\, Italia
CATEGORIES:Fiera
ATTACH;FMTTYPE=image/jpeg:https://www.fieraroma.it/wp-content/uploads/logo_EOLICA_2023_512x413.jpg
ORGANIZER;CN="A151 S.R.L.":MAILTO:events@zeroemission.show
END:VEVENT
END:VCALENDAR