BEGIN:VCALENDAR
VERSION:2.0
PRODID:-//Fiera Roma - ECPv6.15.17.1//NONSGML v1.0//EN
CALSCALE:GREGORIAN
METHOD:PUBLISH
X-WR-CALNAME:Fiera Roma
X-ORIGINAL-URL:https://www.fieraroma.it
X-WR-CALDESC:Eventi per Fiera Roma
REFRESH-INTERVAL;VALUE=DURATION:PT1H
X-Robots-Tag:noindex
X-PUBLISHED-TTL:PT1H
BEGIN:VTIMEZONE
TZID:Europe/Rome
BEGIN:DAYLIGHT
TZOFFSETFROM:+0100
TZOFFSETTO:+0200
TZNAME:CEST
DTSTART:20210328T010000
END:DAYLIGHT
BEGIN:STANDARD
TZOFFSETFROM:+0200
TZOFFSETTO:+0100
TZNAME:CET
DTSTART:20211031T010000
END:STANDARD
BEGIN:DAYLIGHT
TZOFFSETFROM:+0100
TZOFFSETTO:+0200
TZNAME:CEST
DTSTART:20220327T010000
END:DAYLIGHT
BEGIN:STANDARD
TZOFFSETFROM:+0200
TZOFFSETTO:+0100
TZNAME:CET
DTSTART:20221030T010000
END:STANDARD
BEGIN:DAYLIGHT
TZOFFSETFROM:+0100
TZOFFSETTO:+0200
TZNAME:CEST
DTSTART:20230326T010000
END:DAYLIGHT
BEGIN:STANDARD
TZOFFSETFROM:+0200
TZOFFSETTO:+0100
TZNAME:CET
DTSTART:20231029T010000
END:STANDARD
END:VTIMEZONE
BEGIN:VEVENT
DTSTART;TZID=Europe/Rome:20221012T000000
DTEND;TZID=Europe/Rome:20221014T235959
DTSTAMP:20260424T145910
CREATED:20221006T224203Z
LAST-MODIFIED:20221118T004221Z
UID:77500-1665532800-1665791999@www.fieraroma.it
SUMMARY:Eolica Mediterranean
DESCRIPTION:Mostra Convegno internazionale dedicata all’energia eolica per il Sud europa e il Mediterraneo\n\n\n\nRitorna a Roma EOLICA MEDITERRANEAN \, la Manifestazione Internazionale dedicata all’energia eolica onshore e off-shore e alla sua catena industriale. Fulcro della Manifestazione è la sua internazionalità con migliaia di visitatori provenienti dall’Europa del Sud e dall’area Mediterranea\, che visiteranno la Fiera e parteciperanno ai numerosi convegni\, seminari e workshop. I visitatori\, provenienti da tutto il mondo\, saranno direttamente invitati dall’Organizzatore\, dagli espositori\, dalle associazioni e dagli uffici diplomatici aventi sede a Roma. EOLICA MEDITERRANEAN si svolgerà in contemporanea a ZEROEMISSION MEDITERRANEAN la Fiera dedicata all’elettrificazione dei consumi\, alla decarbonizzazione della produzione energetica ed alla sostenibilità ambientale \n\n\n\nGRATUITO CON PREREGISTRAZIONE – RISERVATO AGLI OPERATOR
URL:https://www.fieraroma.it/evento/eolica-mediterranean-22/
LOCATION:Fiera di Roma\, Via Portuense\, 1645\, Roma\, 00148\, Italia
CATEGORIES:Fiera
ATTACH;FMTTYPE=image/jpeg:https://www.fieraroma.it/wp-content/uploads/2022/10/Eolica-22.jpg
ORGANIZER;CN="A151 S.R.L.":MAILTO:events@zeroemission.show
END:VEVENT
END:VCALENDAR