BEGIN:VCALENDAR
VERSION:2.0
PRODID:-//Fiera Roma - ECPv6.15.17.1//NONSGML v1.0//EN
CALSCALE:GREGORIAN
METHOD:PUBLISH
X-WR-CALNAME:Fiera Roma
X-ORIGINAL-URL:https://www.fieraroma.it
X-WR-CALDESC:Eventi per Fiera Roma
REFRESH-INTERVAL;VALUE=DURATION:PT1H
X-Robots-Tag:noindex
X-PUBLISHED-TTL:PT1H
BEGIN:VTIMEZONE
TZID:Europe/Rome
BEGIN:DAYLIGHT
TZOFFSETFROM:+0100
TZOFFSETTO:+0200
TZNAME:CEST
DTSTART:20220327T010000
END:DAYLIGHT
BEGIN:STANDARD
TZOFFSETFROM:+0200
TZOFFSETTO:+0100
TZNAME:CET
DTSTART:20221030T010000
END:STANDARD
BEGIN:DAYLIGHT
TZOFFSETFROM:+0100
TZOFFSETTO:+0200
TZNAME:CEST
DTSTART:20230326T010000
END:DAYLIGHT
BEGIN:STANDARD
TZOFFSETFROM:+0200
TZOFFSETTO:+0100
TZNAME:CET
DTSTART:20231029T010000
END:STANDARD
BEGIN:DAYLIGHT
TZOFFSETFROM:+0100
TZOFFSETTO:+0200
TZNAME:CEST
DTSTART:20240331T010000
END:DAYLIGHT
BEGIN:STANDARD
TZOFFSETFROM:+0200
TZOFFSETTO:+0100
TZNAME:CET
DTSTART:20241027T010000
END:STANDARD
END:VTIMEZONE
BEGIN:VEVENT
DTSTART;VALUE=DATE:20230508
DTEND;VALUE=DATE:20230513
DTSTAMP:20260424T132252
CREATED:20230310T104802Z
LAST-MODIFIED:20230310T104802Z
UID:80511-1683504000-1683935999@www.fieraroma.it
SUMMARY:H2020 FitDrive project - Cycle 1 tests
DESCRIPTION:[vc_row][vc_column width=”1/1″][vc_column_text uncode_shortcode_id=”102539″]Test per misurare lo stato di stress alla guida per i conducenti di furgoni per consegna pacchi in ambito urbano\, finalizzati alla realizzazione di un sistema di intelligenza artificiale che possa allertare il conducente di situazioni di stress prima che questi cominci a percepirli. Progetto di ricerca Horizon2020 finanziato dalla Commissione Europea[/vc_column_text][vc_column_text uncode_shortcode_id=”609746″]8 volontari (Autisti professionisti) eseguiranno una prova di guida della durata di un’ora circa\, su un circuito chiuso e controllato all’interno della Fiera\, indossando una serie di sensori biometrici e neurologici; le istruzioni di guida saranno tali da indurre stati sia di noia dovuta alla monotonia del percorso\, sia di fatica per una serie di operazioni da effettuare. I dati rilevati serviranno a costruire un modello di Intelligenza Artificiale che analizza il comportamento di guida[/vc_column_text][/vc_column][/vc_row]
URL:https://www.fieraroma.it/evento/h2020-fitdrive-project-cycle-1-tests/
LOCATION:Fiera di Roma\, Via Portuense\, 1645\, Roma\, 00148\, Italia
CATEGORIES:Convegno|Fiera
ATTACH;FMTTYPE=image/jpeg:https://www.fieraroma.it/wp-content/uploads/h2020_logo.jpg
ORGANIZER;CN="Associazione Italiana dei Professionisti per la Sicurezza Stradale - Universit%C3%A0 ROMATRE%2C Dipartimento di Ingegneria - Universit%C3%A0 di Roma 'La Sapienza'":MAILTO:info@aipss.it
END:VEVENT
END:VCALENDAR