BEGIN:VCALENDAR
VERSION:2.0
PRODID:-//Fiera Roma - ECPv6.15.17.1//NONSGML v1.0//EN
CALSCALE:GREGORIAN
METHOD:PUBLISH
X-WR-CALNAME:Fiera Roma
X-ORIGINAL-URL:https://www.fieraroma.it
X-WR-CALDESC:Eventi per Fiera Roma
REFRESH-INTERVAL;VALUE=DURATION:PT1H
X-Robots-Tag:noindex
X-PUBLISHED-TTL:PT1H
BEGIN:VTIMEZONE
TZID:Europe/Rome
BEGIN:DAYLIGHT
TZOFFSETFROM:+0100
TZOFFSETTO:+0200
TZNAME:CEST
DTSTART:20220327T010000
END:DAYLIGHT
BEGIN:STANDARD
TZOFFSETFROM:+0200
TZOFFSETTO:+0100
TZNAME:CET
DTSTART:20221030T010000
END:STANDARD
BEGIN:DAYLIGHT
TZOFFSETFROM:+0100
TZOFFSETTO:+0200
TZNAME:CEST
DTSTART:20230326T010000
END:DAYLIGHT
BEGIN:STANDARD
TZOFFSETFROM:+0200
TZOFFSETTO:+0100
TZNAME:CET
DTSTART:20231029T010000
END:STANDARD
BEGIN:DAYLIGHT
TZOFFSETFROM:+0100
TZOFFSETTO:+0200
TZNAME:CEST
DTSTART:20240331T010000
END:DAYLIGHT
BEGIN:STANDARD
TZOFFSETFROM:+0200
TZOFFSETTO:+0100
TZNAME:CET
DTSTART:20241027T010000
END:STANDARD
END:VTIMEZONE
BEGIN:VEVENT
DTSTART;VALUE=DATE:20231020
DTEND;VALUE=DATE:20231023
DTSTAMP:20260424T132325
CREATED:20230906T101539Z
LAST-MODIFIED:20230906T101539Z
UID:80848-1697760000-1698019199@www.fieraroma.it
SUMMARY:Maker Faire Rome
DESCRIPTION:  \n 
URL:https://www.fieraroma.it/evento/maker-faire-rome_23/
LOCATION:Fiera di Roma\, Via Portuense\, 1645\, Roma\, 00148\, Italia
CATEGORIES:Fiera
ATTACH;FMTTYPE=image/png:https://www.fieraroma.it/wp-content/uploads/mfr-camera_511.png
ORGANIZER;CN="Innova Camera":MAILTO:info@makerfairerome.eu
END:VEVENT
END:VCALENDAR