BEGIN:VCALENDAR
VERSION:2.0
PRODID:-//Fiera Roma - ECPv6.15.17.1//NONSGML v1.0//EN
CALSCALE:GREGORIAN
METHOD:PUBLISH
X-WR-CALNAME:Fiera Roma
X-ORIGINAL-URL:https://www.fieraroma.it
X-WR-CALDESC:Eventi per Fiera Roma
REFRESH-INTERVAL;VALUE=DURATION:PT1H
X-Robots-Tag:noindex
X-PUBLISHED-TTL:PT1H
BEGIN:VTIMEZONE
TZID:Europe/Rome
BEGIN:DAYLIGHT
TZOFFSETFROM:+0100
TZOFFSETTO:+0200
TZNAME:CEST
DTSTART:20220327T010000
END:DAYLIGHT
BEGIN:STANDARD
TZOFFSETFROM:+0200
TZOFFSETTO:+0100
TZNAME:CET
DTSTART:20221030T010000
END:STANDARD
BEGIN:DAYLIGHT
TZOFFSETFROM:+0100
TZOFFSETTO:+0200
TZNAME:CEST
DTSTART:20230326T010000
END:DAYLIGHT
BEGIN:STANDARD
TZOFFSETFROM:+0200
TZOFFSETTO:+0100
TZNAME:CET
DTSTART:20231029T010000
END:STANDARD
BEGIN:DAYLIGHT
TZOFFSETFROM:+0100
TZOFFSETTO:+0200
TZNAME:CEST
DTSTART:20240331T010000
END:DAYLIGHT
BEGIN:STANDARD
TZOFFSETFROM:+0200
TZOFFSETTO:+0100
TZNAME:CET
DTSTART:20241027T010000
END:STANDARD
END:VTIMEZONE
BEGIN:VEVENT
DTSTART;VALUE=DATE:20230325
DTEND;VALUE=DATE:20230328
DTSTAMP:20260424T132252
CREATED:20230126T143109Z
LAST-MODIFIED:20230126T144126Z
UID:80285-1679702400-1679961599@www.fieraroma.it
SUMMARY:Rome Bridal Week
DESCRIPTION:[vc_row][vc_column][vc_column_text uncode_shortcode_id=”970457″] \nLa Quarta Edizione dell’Evento Sposa più grande\, elegante ed esclusivo di sempre\, riunirà i maggiori player del settore wedding\, presentando le nuove collezioni a un pubblico internazionale di media e di rivenditori al dettaglio.Sarà ancora una volta la Città Eterna a fare da sfondo al grande evento dedicato al Fatidico Sì. Alla Rome Bridal Week c’è spazio per tutti i più grandi atelier del mondo Sposa e Sposo.Brand consolidati\, largamente apprezzati per il loro design raffinato\,per la qualità artigianale e l’eccellenza dei prodotti e per l’attenzione che dedicano ai clienti.Partecipa anche tu e presenta in anteprima le tue collezioni esclusive. \n[/vc_column_text][/vc_column][/vc_row]
URL:https://www.fieraroma.it/evento/rome-bridal-week-2023/
LOCATION:Fiera di Roma\, Via Portuense\, 1645\, Roma\, 00148\, Italia
CATEGORIES:Fiera
ATTACH;FMTTYPE=image/jpeg:https://www.fieraroma.it/wp-content/uploads/logo_bridal_511x413.jpg
ORGANIZER;CN="La Sposa Couture BV":MAILTO:giorgia@lasposacouture.it
END:VEVENT
END:VCALENDAR