BEGIN:VCALENDAR
VERSION:2.0
PRODID:-//Fiera Roma - ECPv6.15.17.1//NONSGML v1.0//EN
CALSCALE:GREGORIAN
METHOD:PUBLISH
X-WR-CALNAME:Fiera Roma
X-ORIGINAL-URL:https://www.fieraroma.it
X-WR-CALDESC:Eventi per Fiera Roma
REFRESH-INTERVAL;VALUE=DURATION:PT1H
X-Robots-Tag:noindex
X-PUBLISHED-TTL:PT1H
BEGIN:VTIMEZONE
TZID:Europe/Rome
BEGIN:DAYLIGHT
TZOFFSETFROM:+0100
TZOFFSETTO:+0200
TZNAME:CEST
DTSTART:20220327T010000
END:DAYLIGHT
BEGIN:STANDARD
TZOFFSETFROM:+0200
TZOFFSETTO:+0100
TZNAME:CET
DTSTART:20221030T010000
END:STANDARD
BEGIN:DAYLIGHT
TZOFFSETFROM:+0100
TZOFFSETTO:+0200
TZNAME:CEST
DTSTART:20230326T010000
END:DAYLIGHT
BEGIN:STANDARD
TZOFFSETFROM:+0200
TZOFFSETTO:+0100
TZNAME:CET
DTSTART:20231029T010000
END:STANDARD
BEGIN:DAYLIGHT
TZOFFSETFROM:+0100
TZOFFSETTO:+0200
TZNAME:CEST
DTSTART:20240331T010000
END:DAYLIGHT
BEGIN:STANDARD
TZOFFSETFROM:+0200
TZOFFSETTO:+0100
TZNAME:CET
DTSTART:20241027T010000
END:STANDARD
END:VTIMEZONE
BEGIN:VEVENT
DTSTART;VALUE=DATE:20231018
DTEND;VALUE=DATE:20231021
DTSTAMP:20260424T132126
CREATED:20230413T074451Z
LAST-MODIFIED:20230413T074533Z
UID:80622-1697587200-1697846399@www.fieraroma.it
SUMMARY:Welfair
DESCRIPTION:WELFAIR è l’evento\, organizzato da Fiera Roma\, il cui nome nasce nel 2020 dall’unione dei termini “Well-being” (lo Stare Bene) e “Fair” (la Fiera). E’ l’evento dedicato al benessere\, alla salute e alla qualità della vita di ogni singola persona\, che guarda a tutti gli aspetti dello stato fisico\, mentale e sociale. Tre giorni di incontri\, approfondimenti e contatti: una grande opportunità per il settore della Salute e della Qualità della vita\, per sostenere la crescita e l’evoluzione dell’obiettivo “Well-being” come strategia collettiva di conoscenze e competenze\, proponendo uno spazio di scambio\, interazione e collaborazione tra i diversi elementi che compongono la filiera. \n\n\n\nCentro congressi\, Pad. 10
URL:https://www.fieraroma.it/evento/welfair-2023/
LOCATION:Fiera di Roma\, Via Portuense\, 1645\, Roma\, 00148\, Italia
CATEGORIES:Fiera
ATTACH;FMTTYPE=image/jpeg:https://www.fieraroma.it/wp-content/uploads/logo-welfair-511x413-1.jpg
END:VEVENT
END:VCALENDAR