BEGIN:VCALENDAR
VERSION:2.0
PRODID:-//Fiera Roma - ECPv6.15.17.1//NONSGML v1.0//EN
CALSCALE:GREGORIAN
METHOD:PUBLISH
X-ORIGINAL-URL:https://www.fieraroma.it
X-WR-CALDESC:Eventi per Fiera Roma
REFRESH-INTERVAL;VALUE=DURATION:PT1H
X-Robots-Tag:noindex
X-PUBLISHED-TTL:PT1H
BEGIN:VTIMEZONE
TZID:Europe/Rome
BEGIN:DAYLIGHT
TZOFFSETFROM:+0100
TZOFFSETTO:+0200
TZNAME:CEST
DTSTART:20250330T010000
END:DAYLIGHT
BEGIN:STANDARD
TZOFFSETFROM:+0200
TZOFFSETTO:+0100
TZNAME:CET
DTSTART:20251026T010000
END:STANDARD
BEGIN:DAYLIGHT
TZOFFSETFROM:+0100
TZOFFSETTO:+0200
TZNAME:CEST
DTSTART:20260329T010000
END:DAYLIGHT
BEGIN:STANDARD
TZOFFSETFROM:+0200
TZOFFSETTO:+0100
TZNAME:CET
DTSTART:20261025T010000
END:STANDARD
BEGIN:DAYLIGHT
TZOFFSETFROM:+0100
TZOFFSETTO:+0200
TZNAME:CEST
DTSTART:20270328T010000
END:DAYLIGHT
BEGIN:STANDARD
TZOFFSETFROM:+0200
TZOFFSETTO:+0100
TZNAME:CET
DTSTART:20271031T010000
END:STANDARD
END:VTIMEZONE
BEGIN:VEVENT
DTSTART;VALUE=DATE:20260513
DTEND;VALUE=DATE:20260516
DTSTAMP:20260424T120239
CREATED:20260108T163256Z
LAST-MODIFIED:20260203T161956Z
UID:10000979-1778630400-1778889599@www.fieraroma.it
SUMMARY:Codeway Expo
DESCRIPTION:
URL:https://www.fieraroma.it/evento/codeway-expo-2026/
LOCATION:Fiera Roma\, Via Portuense\, 1645\, Roma\, Roma\, 00148\, Italy
ATTACH;FMTTYPE=image/jpeg:https://www.fieraroma.it/wp-content/uploads/img-codeway-expo-per-fiera-roma-ita.jpg
END:VEVENT
BEGIN:VEVENT
DTSTART;VALUE=DATE:20260514
DTEND;VALUE=DATE:20260518
DTSTAMP:20260424T120239
CREATED:20250303T153004Z
LAST-MODIFIED:20260421T143655Z
UID:10000929-1778716800-1779062399@www.fieraroma.it
SUMMARY:Zero Emission Mediterranean 2026
DESCRIPTION:[vc_row][vc_column][vc_column_text uncode_shortcode_id=”481847″]FOTOVOLTAICO\, ENERGIE RINNOVABILI\, E-STORAGE\, EV-CHARGING\, E-MOBILITY\, ADVANCED AIR MOBILITY\, COMUNITÀ ENERGETICHE E TECNOLOGIE VERDI IN UN GRANDE EVENTO INTERNAZIONALE \nZeroEmission Mediterranean 2026 è la manifestazione internazionale dedicata alle tecnologie per la produzione e distribuzione di elettricità dal sole\, vento\, altre rinnovabili\, energy storage systems\, grids e microgrids\, veicoli elettrici\, air mobility\, infrastrutture di ricarica\, energy efficency e comunità energetiche. L’elemento distintivo di ZeroEmission Mediterranean 2026 è la sua internazionalità: migliaia di professionisti provenienti dal Centro-Sud Italia\, dal Sud Europa e dai Paesi del Mediterraneo convergeranno sulla fiera\, partecipando anche alle conferenze\, ai workshop e ai seminari. Come nelle scorse edizioni\, ZeroEmission Mediterranean 2026 rappresenterà un’opportunità unica per tutte le aziende e professionisti coinvolti nel settore per ampliare il proprio network e business.[/vc_column_text][/vc_column][/vc_row]
URL:https://www.fieraroma.it/evento/zero-emission-mediterranean-2026/
LOCATION:Fiera di Roma\, Via Portuense\, 1645\, Roma\, 00148\, Italia
CATEGORIES:Fiera
ATTACH;FMTTYPE=image/jpeg:https://www.fieraroma.it/wp-content/uploads/Logo-Zero-Emission-Mediterranean-511x413-1.jpg
END:VEVENT
BEGIN:VEVENT
DTSTART;VALUE=DATE:20261001
DTEND;VALUE=DATE:20261005
DTSTAMP:20260424T120239
CREATED:20251010T104948Z
LAST-MODIFIED:20251010T105007Z
UID:10000975-1790812800-1791158399@www.fieraroma.it
SUMMARY:Romics
DESCRIPTION:
URL:https://www.fieraroma.it/evento/romics-ottobre-2026/
LOCATION:Fiera di Roma\, Via Portuense\, 1645\, Roma\, 00148\, Italia
CATEGORIES:Fiera
ATTACH;FMTTYPE=image/jpeg:https://www.fieraroma.it/wp-content/uploads/2022/10/fiera-di-roma-eventi-romics-22.jpg
END:VEVENT
BEGIN:VEVENT
DTSTART;VALUE=DATE:20261014
DTEND;VALUE=DATE:20261017
DTSTAMP:20260424T120239
CREATED:20260220T150146Z
LAST-MODIFIED:20260422T090014Z
UID:10000999-1791936000-1792195199@www.fieraroma.it
SUMMARY:Welfair
DESCRIPTION: 
URL:https://www.fieraroma.it/evento/welfair-2026/
LOCATION:Fiera di Roma\, Via Portuense\, 1645\, Roma\, 00148\, Italia
CATEGORIES:Convegno,Fiera
ATTACH;FMTTYPE=image/jpeg:https://www.fieraroma.it/wp-content/uploads/logo-welfair-511x413-1.jpg
END:VEVENT
BEGIN:VEVENT
DTSTART;VALUE=DATE:20261125
DTEND;VALUE=DATE:20261128
DTSTAMP:20260424T120239
CREATED:20260422T081429Z
LAST-MODIFIED:20260422T081429Z
UID:10001006-1795564800-1795823999@www.fieraroma.it
SUMMARY:NSE - New Space Economy European Expoforum
DESCRIPTION:
URL:https://www.fieraroma.it/evento/nse-new-space-economy-european-expoforum-2026/
LOCATION:Fiera di Roma\, Via Portuense\, 1645\, Roma\, 00148\, Italia
CATEGORIES:Convegno,Fiera
ATTACH;FMTTYPE=image/jpeg:https://www.fieraroma.it/wp-content/uploads/Logo-NSE_511x413.jpg
END:VEVENT
END:VCALENDAR