BEGIN:VCALENDAR
VERSION:2.0
PRODID:-//Fiera Roma - ECPv6.15.17.1//NONSGML v1.0//EN
CALSCALE:GREGORIAN
METHOD:PUBLISH
X-ORIGINAL-URL:https://www.fieraroma.it
X-WR-CALDESC:Eventi per Fiera Roma
REFRESH-INTERVAL;VALUE=DURATION:PT1H
X-Robots-Tag:noindex
X-PUBLISHED-TTL:PT1H
BEGIN:VTIMEZONE
TZID:Europe/Rome
BEGIN:DAYLIGHT
TZOFFSETFROM:+0100
TZOFFSETTO:+0200
TZNAME:CEST
DTSTART:20210328T010000
END:DAYLIGHT
BEGIN:STANDARD
TZOFFSETFROM:+0200
TZOFFSETTO:+0100
TZNAME:CET
DTSTART:20211031T010000
END:STANDARD
BEGIN:DAYLIGHT
TZOFFSETFROM:+0100
TZOFFSETTO:+0200
TZNAME:CEST
DTSTART:20220327T010000
END:DAYLIGHT
BEGIN:STANDARD
TZOFFSETFROM:+0200
TZOFFSETTO:+0100
TZNAME:CET
DTSTART:20221030T010000
END:STANDARD
BEGIN:DAYLIGHT
TZOFFSETFROM:+0100
TZOFFSETTO:+0200
TZNAME:CEST
DTSTART:20230326T010000
END:DAYLIGHT
BEGIN:STANDARD
TZOFFSETFROM:+0200
TZOFFSETTO:+0100
TZNAME:CET
DTSTART:20231029T010000
END:STANDARD
BEGIN:DAYLIGHT
TZOFFSETFROM:+0100
TZOFFSETTO:+0200
TZNAME:CEST
DTSTART:20240331T010000
END:DAYLIGHT
BEGIN:STANDARD
TZOFFSETFROM:+0200
TZOFFSETTO:+0100
TZNAME:CET
DTSTART:20241027T010000
END:STANDARD
BEGIN:DAYLIGHT
TZOFFSETFROM:+0100
TZOFFSETTO:+0200
TZNAME:CEST
DTSTART:20250330T010000
END:DAYLIGHT
BEGIN:STANDARD
TZOFFSETFROM:+0200
TZOFFSETTO:+0100
TZNAME:CET
DTSTART:20251026T010000
END:STANDARD
END:VTIMEZONE
BEGIN:VEVENT
DTSTART;VALUE=DATE:20241216
DTEND;VALUE=DATE:20241219
DTSTAMP:20260424T162913
CREATED:20240926T132003Z
LAST-MODIFIED:20240926T145225Z
UID:10000898-1734307200-1734566399@www.fieraroma.it
SUMMARY:New Space Economy European Expoforum
DESCRIPTION:
URL:https://www.fieraroma.it/evento/new-space-economy-european-expoforum-2024/
LOCATION:Fiera di Roma\, Via Portuense\, 1645\, Roma\, 00148\, Italia
CATEGORIES:Convegno
ATTACH;FMTTYPE=image/jpeg:https://www.fieraroma.it/wp-content/uploads/Logo-NSE_511x413.jpg
END:VEVENT
BEGIN:VEVENT
DTSTART;VALUE=DATE:20231205
DTEND;VALUE=DATE:20231208
DTSTAMP:20260424T162913
CREATED:20230921T202934Z
LAST-MODIFIED:20230921T203320Z
UID:10000835-1701734400-1701993599@www.fieraroma.it
SUMMARY:New Space Economy European Expoforum
DESCRIPTION:
URL:https://www.fieraroma.it/evento/new-space-economy-european-expoforum-2023/
LOCATION:Fiera di Roma\, Via Portuense\, 1645\, Roma\, 00148\, Italia
CATEGORIES:Convegno
ATTACH;FMTTYPE=image/jpeg:https://www.fieraroma.it/wp-content/uploads/2022/10/logo511x413-22.jpg
END:VEVENT
BEGIN:VEVENT
DTSTART;TZID=Europe/Rome:20221201T000000
DTEND;TZID=Europe/Rome:20221203T235959
DTSTAMP:20260424T162913
CREATED:20221011T083635Z
LAST-MODIFIED:20221201T151737Z
UID:10000757-1669852800-1670111999@www.fieraroma.it
SUMMARY:NSE - New Space Economy European Expoforum
DESCRIPTION:NSE\, il New Space Economy Expoforum\, è l’appuntamento annuale sugli impatti economici del settore spaziale\, su ciò che guida la rapida evoluzione del coinvolgimento istituzionale e privato nel New Space. \n\n\n\nNSE offre una rapida panoramica sul potenziale crescente del settore spaziale alla più ampia comunità di utenti e sui nuovi potenziali stakeholder e opportunità di business a livello nazionale e internazionale. \n\n\n\nNSE mette in rete grandi attori industriali\, piccole e medie imprese innovative\, investitori\, venturer\, startup\, centri di ricerca\, università\, agenzie spaziali\, istituzioni e organizzazioni internazionali. \n\n\n\nNSE 2022 beneficia di un approccio multidisciplinare per fornire soluzioni spaziali agli utenti non spaziali nella costruzione di una società sostenibile e ispirare le prossime generazioni. \n\n\n\nPadiglioni: 9 – 10 \n\n\n\nIngressi: \n\n\n\n\nAREA EXPO (PAD.9) – GRATUITA\n\n\n\nCONFERENZA SCIENTIFICA (PAD. 10) – A PAGAMENTO\n\n\n\n\nOrari: dalle ore 9.00 alle ore 18.00
URL:https://www.fieraroma.it/evento/nse-new-space-economy-european-expoforum/
LOCATION:Fiera di Roma\, Via Portuense\, 1645\, Roma\, 00148\, Italia
CATEGORIES:Convegno
ATTACH;FMTTYPE=image/jpeg:https://www.fieraroma.it/wp-content/uploads/2022/10/NSE-22.jpg
END:VEVENT
END:VCALENDAR