BEGIN:VCALENDAR
VERSION:2.0
PRODID:-//Fiera Roma - ECPv6.15.17.1//NONSGML v1.0//EN
CALSCALE:GREGORIAN
METHOD:PUBLISH
X-WR-CALNAME:Fiera Roma
X-ORIGINAL-URL:https://www.fieraroma.it
X-WR-CALDESC:Eventi per Fiera Roma
REFRESH-INTERVAL;VALUE=DURATION:PT1H
X-Robots-Tag:noindex
X-PUBLISHED-TTL:PT1H
BEGIN:VTIMEZONE
TZID:Europe/Rome
BEGIN:DAYLIGHT
TZOFFSETFROM:+0100
TZOFFSETTO:+0200
TZNAME:CEST
DTSTART:20220327T010000
END:DAYLIGHT
BEGIN:STANDARD
TZOFFSETFROM:+0200
TZOFFSETTO:+0100
TZNAME:CET
DTSTART:20221030T010000
END:STANDARD
BEGIN:DAYLIGHT
TZOFFSETFROM:+0100
TZOFFSETTO:+0200
TZNAME:CEST
DTSTART:20230326T010000
END:DAYLIGHT
BEGIN:STANDARD
TZOFFSETFROM:+0200
TZOFFSETTO:+0100
TZNAME:CET
DTSTART:20231029T010000
END:STANDARD
BEGIN:DAYLIGHT
TZOFFSETFROM:+0100
TZOFFSETTO:+0200
TZNAME:CEST
DTSTART:20240331T010000
END:DAYLIGHT
BEGIN:STANDARD
TZOFFSETFROM:+0200
TZOFFSETTO:+0100
TZNAME:CET
DTSTART:20241027T010000
END:STANDARD
BEGIN:DAYLIGHT
TZOFFSETFROM:+0100
TZOFFSETTO:+0200
TZNAME:CEST
DTSTART:20250330T010000
END:DAYLIGHT
BEGIN:STANDARD
TZOFFSETFROM:+0200
TZOFFSETTO:+0100
TZNAME:CET
DTSTART:20251026T010000
END:STANDARD
BEGIN:DAYLIGHT
TZOFFSETFROM:+0100
TZOFFSETTO:+0200
TZNAME:CEST
DTSTART:20260329T010000
END:DAYLIGHT
BEGIN:STANDARD
TZOFFSETFROM:+0200
TZOFFSETTO:+0100
TZNAME:CET
DTSTART:20261025T010000
END:STANDARD
BEGIN:DAYLIGHT
TZOFFSETFROM:+0100
TZOFFSETTO:+0200
TZNAME:CEST
DTSTART:20270328T010000
END:DAYLIGHT
BEGIN:STANDARD
TZOFFSETFROM:+0200
TZOFFSETTO:+0100
TZNAME:CET
DTSTART:20271031T010000
END:STANDARD
END:VTIMEZONE
BEGIN:VEVENT
DTSTART;VALUE=DATE:20260226
DTEND;VALUE=DATE:20260302
DTSTAMP:20260424T175933
CREATED:20260203T151545Z
LAST-MODIFIED:20260213T141645Z
UID:10000986-1772064000-1772409599@www.fieraroma.it
SUMMARY:ABILMENTE ROMA
DESCRIPTION:Translator\n\n\n\n\n\n\n\n\n  \n \n\n\nTranslator\n\n\n\n\n\n\n\n\n  \n 
URL:https://www.fieraroma.it/evento/abilmente-roma-primavera-2026/
LOCATION:Fiera di Roma\, Via Portuense\, 1645\, Roma\, 00148\, Italia
CATEGORIES:Fiera
ATTACH;FMTTYPE=image/jpeg:https://www.fieraroma.it/wp-content/uploads/2022/10/logo_abilmente_2022.jpg
ORGANIZER;CN="IEG EXPO S.p.A.":MAILTO:info@iegexpo.it
END:VEVENT
BEGIN:VEVENT
DTSTART;VALUE=DATE:20250925
DTEND;VALUE=DATE:20250929
DTSTAMP:20260424T175933
CREATED:20250121T112546Z
LAST-MODIFIED:20250828T122946Z
UID:10000920-1758758400-1759103999@www.fieraroma.it
SUMMARY:ABILMENTE ROMA
DESCRIPTION:
URL:https://www.fieraroma.it/evento/abilmente-2025/
LOCATION:Fiera di Roma\, Via Portuense\, 1645\, Roma\, 00148\, Italia
CATEGORIES:Fiera
ATTACH;FMTTYPE=image/jpeg:https://www.fieraroma.it/wp-content/uploads/ABILMENTE_ROMA-2025-1.jpg
ORGANIZER;CN="IEG EXPO S.p.A.":MAILTO:info@iegexpo.it
END:VEVENT
BEGIN:VEVENT
DTSTART;VALUE=DATE:20240919
DTEND;VALUE=DATE:20240923
DTSTAMP:20260424T175933
CREATED:20240626T120818Z
LAST-MODIFIED:20240626T120818Z
UID:10000894-1726704000-1727049599@www.fieraroma.it
SUMMARY:ABILMENTE
DESCRIPTION:
URL:https://www.fieraroma.it/evento/abilmente-settembre-2024/
LOCATION:Fiera di Roma\, Via Portuense\, 1645\, Roma\, 00148\, Italia
CATEGORIES:Fiera
ATTACH;FMTTYPE=image/jpeg:https://www.fieraroma.it/wp-content/uploads/2022/10/logo_abilmente_2022.jpg
ORGANIZER;CN="IEG EXPO S.p.A.":MAILTO:info@iegexpo.it
END:VEVENT
BEGIN:VEVENT
DTSTART;VALUE=DATE:20240229
DTEND;VALUE=DATE:20240304
DTSTAMP:20260424T175933
CREATED:20240109T162351Z
LAST-MODIFIED:20240109T162351Z
UID:10000867-1709164800-1709510399@www.fieraroma.it
SUMMARY:ABILMENTE
DESCRIPTION:
URL:https://www.fieraroma.it/evento/abilmente-2024/
LOCATION:Fiera di Roma\, Via Portuense\, 1645\, Roma\, 00148\, Italia
CATEGORIES:Fiera
ATTACH;FMTTYPE=image/jpeg:https://www.fieraroma.it/wp-content/uploads/2022/10/logo_abilmente_2022.jpg
ORGANIZER;CN="IEG EXPO S.p.A.":MAILTO:info@iegexpo.it
END:VEVENT
BEGIN:VEVENT
DTSTART;VALUE=DATE:20230921
DTEND;VALUE=DATE:20230925
DTSTAMP:20260424T175933
CREATED:20230831T123213Z
LAST-MODIFIED:20230831T130044Z
UID:10000829-1695254400-1695599999@www.fieraroma.it
SUMMARY:ABILMENTE
DESCRIPTION:
URL:https://www.fieraroma.it/evento/abilmente_2023/
LOCATION:Fiera di Roma\, Via Portuense\, 1645\, Roma\, 00148\, Italia
CATEGORIES:Fiera
ATTACH;FMTTYPE=image/jpeg:https://www.fieraroma.it/wp-content/uploads/2022/10/logo_abilmente_2022.jpg
ORGANIZER;CN="IEG EXPO S.p.A.":MAILTO:info@iegexpo.it
END:VEVENT
END:VCALENDAR