BEGIN:VCALENDAR
VERSION:2.0
PRODID:-//Fiera Roma - ECPv6.15.17.1//NONSGML v1.0//EN
CALSCALE:GREGORIAN
METHOD:PUBLISH
X-ORIGINAL-URL:https://www.fieraroma.it
X-WR-CALDESC:Eventi per Fiera Roma
REFRESH-INTERVAL;VALUE=DURATION:PT1H
X-Robots-Tag:noindex
X-PUBLISHED-TTL:PT1H
BEGIN:VTIMEZONE
TZID:Europe/Rome
BEGIN:DAYLIGHT
TZOFFSETFROM:+0100
TZOFFSETTO:+0200
TZNAME:CEST
DTSTART:20210328T010000
END:DAYLIGHT
BEGIN:STANDARD
TZOFFSETFROM:+0200
TZOFFSETTO:+0100
TZNAME:CET
DTSTART:20211031T010000
END:STANDARD
BEGIN:DAYLIGHT
TZOFFSETFROM:+0100
TZOFFSETTO:+0200
TZNAME:CEST
DTSTART:20220327T010000
END:DAYLIGHT
BEGIN:STANDARD
TZOFFSETFROM:+0200
TZOFFSETTO:+0100
TZNAME:CET
DTSTART:20221030T010000
END:STANDARD
BEGIN:DAYLIGHT
TZOFFSETFROM:+0100
TZOFFSETTO:+0200
TZNAME:CEST
DTSTART:20230326T010000
END:DAYLIGHT
BEGIN:STANDARD
TZOFFSETFROM:+0200
TZOFFSETTO:+0100
TZNAME:CET
DTSTART:20231029T010000
END:STANDARD
BEGIN:DAYLIGHT
TZOFFSETFROM:+0100
TZOFFSETTO:+0200
TZNAME:CEST
DTSTART:20240331T010000
END:DAYLIGHT
BEGIN:STANDARD
TZOFFSETFROM:+0200
TZOFFSETTO:+0100
TZNAME:CET
DTSTART:20241027T010000
END:STANDARD
BEGIN:DAYLIGHT
TZOFFSETFROM:+0100
TZOFFSETTO:+0200
TZNAME:CEST
DTSTART:20250330T010000
END:DAYLIGHT
BEGIN:STANDARD
TZOFFSETFROM:+0200
TZOFFSETTO:+0100
TZNAME:CET
DTSTART:20251026T010000
END:STANDARD
BEGIN:DAYLIGHT
TZOFFSETFROM:+0100
TZOFFSETTO:+0200
TZNAME:CEST
DTSTART:20260329T010000
END:DAYLIGHT
BEGIN:STANDARD
TZOFFSETFROM:+0200
TZOFFSETTO:+0100
TZNAME:CET
DTSTART:20261025T010000
END:STANDARD
END:VTIMEZONE
BEGIN:VEVENT
DTSTART;VALUE=DATE:20251025
DTEND;VALUE=DATE:20251103
DTSTAMP:20260424T150127
CREATED:20250527T162612Z
LAST-MODIFIED:20250527T162612Z
UID:10000964-1761350400-1762127999@www.fieraroma.it
SUMMARY:MOACASA
DESCRIPTION:
URL:https://www.fieraroma.it/evento/moacasa-2025/
LOCATION:Fiera di Roma\, Via Portuense\, 1645\, Roma\, 00148\, Italia
CATEGORIES:Fiera
ATTACH;FMTTYPE=image/jpeg:https://www.fieraroma.it/wp-content/uploads/2022/10/Moacasa-22.jpg
ORGANIZER;CN="Moa Societ%C3%A0 Cooperativa":MAILTO:info@moacasa.com
END:VEVENT
BEGIN:VEVENT
DTSTART;VALUE=DATE:20250322
DTEND;VALUE=DATE:20250331
DTSTAMP:20260424T150127
CREATED:20250307T153353Z
LAST-MODIFIED:20250307T153353Z
UID:10000937-1742601600-1743379199@www.fieraroma.it
SUMMARY:CASAIDEA 2025
DESCRIPTION:
URL:https://www.fieraroma.it/evento/casaidea-2025/
LOCATION:Fiera Roma – Ingresso Est\, Via Alexandre Gustave Eiffell\, Roma\, 00148\, Italy
CATEGORIES:Fiera
ATTACH;FMTTYPE=image/jpeg:https://www.fieraroma.it/wp-content/uploads/logo_casaidea_511x413.jpg
ORGANIZER;CN="Moa Societ%C3%A0 Cooperativa":MAILTO:info@moacasa.com
END:VEVENT
BEGIN:VEVENT
DTSTART;VALUE=DATE:20241026
DTEND;VALUE=DATE:20241104
DTSTAMP:20260424T150127
CREATED:20241015T105708Z
LAST-MODIFIED:20241015T105708Z
UID:10000902-1729900800-1730678399@www.fieraroma.it
SUMMARY:MOACASA
DESCRIPTION:
URL:https://www.fieraroma.it/evento/moacasa-2024/
LOCATION:Fiera di Roma\, Via Portuense\, 1645\, Roma\, 00148\, Italia
CATEGORIES:Fiera
ATTACH;FMTTYPE=image/jpeg:https://www.fieraroma.it/wp-content/uploads/2022/10/Moacasa-22.jpg
ORGANIZER;CN="Moa Societ%C3%A0 Cooperativa":MAILTO:info@moacasa.com
END:VEVENT
BEGIN:VEVENT
DTSTART;VALUE=DATE:20240316
DTEND;VALUE=DATE:20240325
DTSTAMP:20260424T150127
CREATED:20231222T080748Z
LAST-MODIFIED:20250408T073522Z
UID:10000863-1710547200-1711324799@www.fieraroma.it
SUMMARY:CASAIDEA 2024
DESCRIPTION:
URL:https://www.fieraroma.it/evento/casaidea-2024/
LOCATION:Fiera Roma – Ingresso Est\, Via Alexandre Gustave Eiffell\, Roma\, 00148\, Italy
CATEGORIES:Fiera
ATTACH;FMTTYPE=image/jpeg:https://www.fieraroma.it/wp-content/uploads/logo_casaidea_511x413.jpg
ORGANIZER;CN="Moa Societ%C3%A0 Cooperativa":MAILTO:info@moacasa.com
END:VEVENT
BEGIN:VEVENT
DTSTART;VALUE=DATE:20231028
DTEND;VALUE=DATE:20231106
DTSTAMP:20260424T150127
CREATED:20230919T101120Z
LAST-MODIFIED:20230919T101144Z
UID:10000833-1698451200-1699228799@www.fieraroma.it
SUMMARY:MOACASA
DESCRIPTION:
URL:https://www.fieraroma.it/evento/moacasa-23/
LOCATION:Fiera di Roma\, Via Portuense\, 1645\, Roma\, 00148\, Italia
CATEGORIES:Fiera
ATTACH;FMTTYPE=image/jpeg:https://www.fieraroma.it/wp-content/uploads/2022/10/Moacasa-22.jpg
ORGANIZER;CN="Moa Societ%C3%A0 Cooperativa":MAILTO:info@moacasa.com
END:VEVENT
BEGIN:VEVENT
DTSTART;VALUE=DATE:20230318
DTEND;VALUE=DATE:20230327
DTSTAMP:20260424T150127
CREATED:20230206T145033Z
LAST-MODIFIED:20230206T145051Z
UID:10000791-1679097600-1679875199@www.fieraroma.it
SUMMARY:CASAIDEA 2023
DESCRIPTION:[vc_row][vc_column width=”1/1″][vc_column_text uncode_shortcode_id=”205429″][/vc_column_text][/vc_column][/vc_row]
URL:https://www.fieraroma.it/evento/casaidea-2023/
LOCATION:Fiera Roma\, Via Portuense\, 1645\, Roma\, Roma\, 00148\, Italy
ATTACH;FMTTYPE=image/jpeg:https://www.fieraroma.it/wp-content/uploads/logo_casaidea_511x413.jpg
ORGANIZER;CN="Moa Societ%C3%A0 Cooperativa":MAILTO:info@moacasa.com
END:VEVENT
BEGIN:VEVENT
DTSTART;TZID=Europe/Rome:20221029T000000
DTEND;TZID=Europe/Rome:20221106T235959
DTSTAMP:20260424T150127
CREATED:20221011T081733Z
LAST-MODIFIED:20221118T004323Z
UID:10000756-1667001600-1667779199@www.fieraroma.it
SUMMARY:MOACASA
DESCRIPTION:Mostra di arredo e design\n\n\n\nMoa Società Cooperativa è formata da soci tutti operatori del settore mobili e arredi\, da cui il nome ‘MOA’. La missione aziendale della Cooperativa è la promozione delle attività commerciali attraverso mostre\, convegni e l’istituzione di osservatori privilegiati per il controllo della qualità\, del prezzo e la selezione degli operatori. Dal 1975\, anno di costituzione della Cooperativa\, le iniziative sono state orientate non solo all’arredo in termini commerciali ma anche al design e\, negli ultimi anni\, alla ristrutturazione di interni ed esterni. Da circa oltre 40 anni MOA Società Cooperativa racchiude tra i suoi espositori le migliori aziende italiane\, il cui pregio viene valorizzato da un format espositivo progettato con lo specifico intento di far dialogare con intelligenza industria e artigianato di alto livello\, classico e design\, promuovendo i marchi più significativi del Made in Italy. Una ricetta vincente che conta per ognuno dei due appuntamenti fieristici\, MoaCasa e Casaidea\, oltre 100.000 visitatori l’anno. “Nelle nostre manifestazioni trovano spazio diverse forme d’arredo\, dalla tradizione ai giovani designer\, ma sempre all’insegna dell’innovazione e dei servizi a valore aggiunto proposti al pubblico. La missione di MOA Società Cooperativa è di favorire la tradizione italiana con manufatti artigianali di qualità prodotti dalle nostre aziende\, grazie al supporto di operatori qualificati e di anticipare le novità del settore\, presentando in anteprima ai visitatori i trend di design e di mercato”.
URL:https://www.fieraroma.it/evento/moacasa/
LOCATION:Fiera di Roma\, Via Portuense\, 1645\, Roma\, 00148\, Italia
CATEGORIES:Fiera
ATTACH;FMTTYPE=image/jpeg:https://www.fieraroma.it/wp-content/uploads/2022/10/Moacasa-22.jpg
ORGANIZER;CN="Moa Societ%C3%A0 Cooperativa":MAILTO:info@moacasa.com
END:VEVENT
END:VCALENDAR