BEGIN:VCALENDAR
VERSION:2.0
PRODID:-//Fiera Roma - ECPv6.15.17.1//NONSGML v1.0//EN
CALSCALE:GREGORIAN
METHOD:PUBLISH
X-ORIGINAL-URL:https://www.fieraroma.it
X-WR-CALDESC:Eventi per Fiera Roma
REFRESH-INTERVAL;VALUE=DURATION:PT1H
X-Robots-Tag:noindex
X-PUBLISHED-TTL:PT1H
BEGIN:VTIMEZONE
TZID:Europe/Rome
BEGIN:DAYLIGHT
TZOFFSETFROM:+0100
TZOFFSETTO:+0200
TZNAME:CEST
DTSTART:20220327T010000
END:DAYLIGHT
BEGIN:STANDARD
TZOFFSETFROM:+0200
TZOFFSETTO:+0100
TZNAME:CET
DTSTART:20221030T010000
END:STANDARD
BEGIN:DAYLIGHT
TZOFFSETFROM:+0100
TZOFFSETTO:+0200
TZNAME:CEST
DTSTART:20230326T010000
END:DAYLIGHT
BEGIN:STANDARD
TZOFFSETFROM:+0200
TZOFFSETTO:+0100
TZNAME:CET
DTSTART:20231029T010000
END:STANDARD
BEGIN:DAYLIGHT
TZOFFSETFROM:+0100
TZOFFSETTO:+0200
TZNAME:CEST
DTSTART:20240331T010000
END:DAYLIGHT
BEGIN:STANDARD
TZOFFSETFROM:+0200
TZOFFSETTO:+0100
TZNAME:CET
DTSTART:20241027T010000
END:STANDARD
BEGIN:DAYLIGHT
TZOFFSETFROM:+0100
TZOFFSETTO:+0200
TZNAME:CEST
DTSTART:20250330T010000
END:DAYLIGHT
BEGIN:STANDARD
TZOFFSETFROM:+0200
TZOFFSETTO:+0100
TZNAME:CET
DTSTART:20251026T010000
END:STANDARD
BEGIN:DAYLIGHT
TZOFFSETFROM:+0100
TZOFFSETTO:+0200
TZNAME:CEST
DTSTART:20260329T010000
END:DAYLIGHT
BEGIN:STANDARD
TZOFFSETFROM:+0200
TZOFFSETTO:+0100
TZNAME:CET
DTSTART:20261025T010000
END:STANDARD
END:VTIMEZONE
BEGIN:VEVENT
DTSTART;VALUE=DATE:20250515
DTEND;VALUE=DATE:20250519
DTSTAMP:20260424T150234
CREATED:20250311T105421Z
LAST-MODIFIED:20250311T105607Z
UID:10000940-1747267200-1747612799@www.fieraroma.it
SUMMARY:EdilexpoRoma 2025
DESCRIPTION:EDILEXPOROMA 2025: Fiera Internazionale per l’Edilizia\, Impianti e Design – Dal 15 al 18 Maggio a Fiera di Roma \nEDILEXPOROMA 2025 è l’evento annuale di riferimento per gli operatori del settore edilizio\, impianti e design\, che si terrà dal 15 al 18 maggio presso la Fiera di Roma. La fiera rappresenta un’opportunità straordinaria per aziende produttrici\, General Contractor\, imprese di costruzione\, architetti\, ingegneri\, geometri\, geologi e altri professionisti del settore per aggiornarsi sulle ultime tendenze e innovazioni nel campo dell’edilizia e del design. \nDurante l’evento\, i visitatori avranno la possibilità di: \n– Partecipare a convegni\, workshop e seminari tecnici\, con rilascio di crediti formativi.\n– Incontrare esperti del settore\, confrontarsi con i principali attori dell’edilizia e ampliare la propria rete di contatti professionali.\n– Scoprire soluzioni innovative per costruire e abitare grazie alla presenza di aziende leader nel settore. L’ingresso è gratuito\, previa registrazione al link: https://edilexporoma.it/#visita
URL:https://www.fieraroma.it/evento/edilexporoma-2025/
LOCATION:Fiera di Roma\, Via Portuense\, 1645\, Roma\, 00148\, Italia
CATEGORIES:Fiera
ATTACH;FMTTYPE=image/jpeg:https://www.fieraroma.it/wp-content/uploads/logo_edilexporoma2025_511x413.jpg
ORGANIZER;CN="You Marketing srl":MAILTO:info@youmarketingsrl.it
END:VEVENT
BEGIN:VEVENT
DTSTART;VALUE=DATE:20240515
DTEND;VALUE=DATE:20240520
DTSTAMP:20260424T150234
CREATED:20240109T113555Z
LAST-MODIFIED:20240109T113555Z
UID:10000865-1715731200-1716163199@www.fieraroma.it
SUMMARY:EdilexpoRoma 2024
DESCRIPTION:EDILEXPOROMA nasce dall’esigenza strategica\, manifestata da importanti realtà del settore dell’edilizia e numerosi ordini professionali\, di un appuntamento b2b altamente qualificato che abbia svolgimento nel centro Italia. \nUn punto di incontro annuale ricorrente per far convergere le esigenze dell’intero comparto in un unico contenitore\, attrattivo e facilmente fruibile per gli operatori e professionisti del settore. Dopo il successo della prima edizione\, EDILEXPOROMA continua la sua evoluzione verso un format sempre più innovativo e all’avanguardia\, che possa rispondere in maniera sempre più puntuale alle esigenze di visibilità delle aziende. \nEdilExpoRoma\, nella cinque giorni dal 15 al 19 maggio 2024\, riunirà nel complesso di Fiera Roma i principali stakeholder pubblici e privati del settore\, con l’obiettivo di creare un contesto e un progetto di sviluppo in grado di favorire collaborazioni e condivisione delle conoscenze di aziende e professionisti all’interno del settore delle costruzioni e tra il settore pubblico e quello privato.
URL:https://www.fieraroma.it/evento/edilexporoma-2024/
LOCATION:Fiera di Roma\, Via Portuense\, 1645\, Roma\, 00148\, Italia
CATEGORIES:Fiera
ATTACH;FMTTYPE=image/jpeg:https://www.fieraroma.it/wp-content/uploads/logo_edilexporoma_511x413-1.jpg
ORGANIZER;CN="You Marketing srl":MAILTO:info@youmarketingsrl.it
END:VEVENT
BEGIN:VEVENT
DTSTART;VALUE=DATE:20230527
DTEND;VALUE=DATE:20230605
DTSTAMP:20260424T150234
CREATED:20230123T080331Z
LAST-MODIFIED:20230216T153109Z
UID:10000781-1685145600-1685923199@www.fieraroma.it
SUMMARY:EdilexpoRoma 2023
DESCRIPTION:EDILEXPOROMA nasce con l’obiettivo di convergere le esigenze di un intero comparto in un unico grande contenitore dal respiro internazionale\, nel centro del Mediterraneo e a due passi dalla Capitale d’Italia. \nEDILEXPOROMA sarà innanzitutto una grande una grande opportunità per i principali stakeholders del settore per incontrarsi e mettersi in mostra\, ma sarà anche un’occasione per i consumatori finali per confrontarsi direttamente con i produttori\, nonché per conoscere e toccare con mano tutte le novità del settore. \nEDILEXPOROMA proporrà 9 giornate di esposizione nelle quali aziende nazionali e internazionali\, associazioni di categoria e professionisti e operatori del settore si scambieranno idee e contenuti\, parteciperanno a convegni e focus tecnici\, creeranno le condizioni per sviluppare nuovi mercati. \nCATEGORIE MERCEOLOGICHE DI EDILEXPOROMA:\nMacchine per l’edilizia\, mezzi di cantiere\, piattaforme aeree\, attrezzature ed impianti per l’edilizia civile\, ristrutturazione e l’adeguamento sismico\, progettazione strutturale e design d’interni\, antinfortunistica\, materiali da costruzione\, vernici\, decorativi\, cartongesso\, ceramiche\, pavimentazioni\, arredo bagno\, sanitari\, serramenti e infissi\, termoidraulica\, energie rinnovabili\, risparmio energetico\, sistemi di sicurezza\, domotica\, home fitness\, arredamento\, mobili\, antiquariato\, prodotti ed articoli per la casa\, giardinaggio\, pergole bioclimatiche\, arredo giardino\, piscine.
URL:https://www.fieraroma.it/evento/edilexporoma_2023/
LOCATION:Fiera di Roma\, Via Portuense\, 1645\, Roma\, 00148\, Italia
CATEGORIES:Fiera
ATTACH;FMTTYPE=image/jpeg:https://www.fieraroma.it/wp-content/uploads/logo_edilexporoma_511x413.jpg
ORGANIZER;CN="You Marketing srl":MAILTO:info@youmarketingsrl.it
END:VEVENT
END:VCALENDAR